BEGIN_USGS_DOQ_HEADER *
QUADRANGLE_NAME "CYPRESS MOUNTAIN" *
QUADRANT SW *
NORTH_LATITUDE 35 33 45.000 *
WEST_LONGITUDE -121 00 00.000 *
SOUTH_LATITUDE 35 30 00.000 *
EAST_LONGITUDE -120 56 15.000 *
PRODUCTION_DATE 1998 10 27 *
RASTER_ORDER LEFT_RIGHT/TOP_BOTTOM *
BAND_ORGANIZATION "SINGLE FILE" *
BAND_CONTENT BLACK&WHITE *
BITS_PER_PIXEL 8 *
SAMPLES_AND_LINES 6540 7710 *
HORIZONTAL_DATUM NAD83 *
HORIZONTAL_COORDINATE_SYSTEM UTM *
COORDINATE_ZONE 10 *
HORIZONTAL_UNITS METERS *
HORIZONTAL_RESOLUTION 1.000 *
SECONDARY_HORIZONTAL_DATUM NAD27 *
XY_ORIGIN 680850.000 3937710.000 *
SECONDARY_XY_ORIGIN 680946.695 3937515.835 *
NATION US *
STATE CA *
NW_QUAD_CORNER_XY 681257.597 3937265.403 *
NE_QUAD_CORNER_XY 686922.683 3937382.258 *
SE_QUAD_CORNER_XY 687067.785 3930449.166 *
SW_QUAD_CORNER_XY 681398.297 3930332.399 *
SECONDARY_NW_QUAD_XY 681261.853 3937066.220 *
SECONDARY_NE_QUAD_XY 686927.072 3937183.078 *
SECONDARY_SE_QUAD_XY 687072.170 3930250.167 *
SECONDARY_SW_QUAD_XY 681402.549 3930133.397 *
RMSE_XY 1.618 *
IMAGE_SOURCE "BLACK AND WHITE FILM" *
SOURCE_IMAGE_ID "NAPP 6917 138" *
SOURCE_IMAGE_DATE 1994 05 10 *
SOURCE_DEM_DATE 1976 01 01 *
AGENCY "WESTERN MAPPING CENTER (WMC)" *
PRODUCER "ANALYTICAL SURVEYS INC." *
PRODUCTION_SYSTEM "ORBIT OR_RECTIFY V.5.2" *
STANDARD_VERSION 1996 12 *
METADATA_DATE 1998 11 02 *
DATA_FILE_SIZE 50429940 *
BYTE_COUNT 6540 * * * * * * * * * * * * * * * * * * * * * * * * * * * * * * * * * * * * * * *
END_USGS_HEADER *
