BEGIN_USGS_DOQ_HEADER *
QUADRANGLE_NAME "SAWTOOTH RIDGE" *
QUADRANT NE *
NORTH_LATITUDE 35 45 00.000 *
WEST_LONGITUDE -120 03 45.000 *
SOUTH_LATITUDE 35 41 15.000 *
EAST_LONGITUDE -120 00 00.000 *
PRODUCTION_DATE 1998 11 19 *
RASTER_ORDER LEFT_RIGHT/TOP_BOTTOM *
BAND_ORGANIZATION "SINGLE FILE" *
BAND_CONTENT BLACK&WHITE *
BITS_PER_PIXEL 8 *
SAMPLES_AND_LINES 6600 7740 *
HORIZONTAL_DATUM NAD83 *
HORIZONTAL_COORDINATE_SYSTEM UTM *
COORDINATE_ZONE 10 *
HORIZONTAL_UNITS METERS *
HORIZONTAL_RESOLUTION 1.000 *
SECONDARY_HORIZONTAL_DATUM NAD27 *
XY_ORIGIN 765210.000 3960690.000 *
SECONDARY_XY_ORIGIN 765304.163 3960497.098 *
NATION US *
STATE CA *
NW_QUAD_CORNER_XY 765620.200 3960200.599 *
NE_QUAD_CORNER_XY 771273.328 3960371.889 *
SE_QUAD_CORNER_XY 771485.510 3953437.002 *
SW_QUAD_CORNER_XY 765827.950 3953265.838 *
SECONDARY_NW_QUAD_XY 765626.469 3960000.927 *
SECONDARY_NE_QUAD_XY 771279.731 3960172.221 *
SECONDARY_SE_QUAD_XY 771491.907 3953237.513 *
SECONDARY_SW_QUAD_XY 765834.214 3953066.345 *
RMSE_XY 0.834 *
IMAGE_SOURCE "BLACK AND WHITE FILM" *
SOURCE_IMAGE_ID "NAPP 6915 211" *
SOURCE_IMAGE_DATE 1994 04 21 *
SOURCE_DEM_DATE 1994 01 01 *
AGENCY "WESTERN MAPPING CENTER (WMC)" *
PRODUCER "ANALYTICAL SURVEYS INC." *
PRODUCTION_SYSTEM "ORBIT OR_RECTIFY V.5.2" *
STANDARD_VERSION 1996 12 *
METADATA_DATE 1998 11 23 *
DATA_FILE_SIZE 51090600 *
BYTE_COUNT 6600 * * * * * * * * * * * * * * * * * * * * * * * * * * * * * * * * * * * * * * * *
END_USGS_HEADER *
