BEGIN_USGS_DOQ_HEADER *
QUADRANGLE_NAME "ORCHARD PEAK" *
QUADRANT NE *
NORTH_LATITUDE 35 45 00.000 *
WEST_LONGITUDE -120 11 15.000 *
SOUTH_LATITUDE 35 41 15.000 *
EAST_LONGITUDE -120 07 30.000 *
PRODUCTION_DATE 1998 11 19 *
RASTER_ORDER LEFT_RIGHT/TOP_BOTTOM *
BAND_ORGANIZATION "SINGLE FILE" *
BAND_CONTENT BLACK&WHITE *
BITS_PER_PIXEL 8 *
SAMPLES_AND_LINES 6600 7740 *
HORIZONTAL_DATUM NAD83 *
HORIZONTAL_COORDINATE_SYSTEM UTM *
COORDINATE_ZONE 10 *
HORIZONTAL_UNITS METERS *
HORIZONTAL_RESOLUTION 1.000 *
SECONDARY_HORIZONTAL_DATUM NAD27 *
XY_ORIGIN 753900.000 3960360.000 *
SECONDARY_XY_ORIGIN 753994.297 3960166.774 *
NATION US *
STATE CA *
NW_QUAD_CORNER_XY 754314.246 3959868.866 *
NE_QUAD_CORNER_XY 759967.174 3960032.925 *
SE_QUAD_CORNER_XY 760170.492 3953098.287 *
SW_QUAD_CORNER_XY 754513.133 3952934.348 *
SECONDARY_NW_QUAD_XY 754320.248 3959669.186 *
SECONDARY_NE_QUAD_XY 759973.309 3959833.249 *
SECONDARY_SE_QUAD_XY 760176.622 3952898.790 *
SECONDARY_SW_QUAD_XY 754519.130 3952734.847 *
RMSE_XY 1.544 *
IMAGE_SOURCE "BLACK AND WHITE FILM" *
SOURCE_IMAGE_ID "NAPP 6915 140" *
SOURCE_IMAGE_DATE 1994 04 21 *
SOURCE_IMAGE_ID "NAPP 6915 115" *
SOURCE_IMAGE_DATE 1994 04 21 *
SOURCE_DEM_DATE 1989 01 01 *
AGENCY "WESTERN MAPPING CENTER (WMC)" *
PRODUCER "ANALYTICAL SURVEYS INC." *
PRODUCTION_SYSTEM "ORBIT OR_RECTIFY V.5.2" *
STANDARD_VERSION 1996 12 *
METADATA_DATE 1998 11 23 *
DATA_FILE_SIZE 51090600 *
BYTE_COUNT 6600 * * * * * * * * * * * * * * * * * * * * * * * * * * * * * * * * * * * * * *
END_USGS_HEADER *
