BEGIN_USGS_DOQ_HEADER *
QUADRANGLE_NAME "ORCHARD PEAK" *
QUADRANT SW *
NORTH_LATITUDE 35 41 15.000 *
WEST_LONGITUDE -120 15 00.000 *
SOUTH_LATITUDE 35 37 30.000 *
EAST_LONGITUDE -120 11 15.000 *
PRODUCTION_DATE 1998 11 19 *
RASTER_ORDER LEFT_RIGHT/TOP_BOTTOM *
BAND_ORGANIZATION "SINGLE FILE" *
BAND_CONTENT BLACK&WHITE *
BITS_PER_PIXEL 8 *
SAMPLES_AND_LINES 6600 7740 *
HORIZONTAL_DATUM NAD83 *
HORIZONTAL_COORDINATE_SYSTEM UTM *
COORDINATE_ZONE 10 *
HORIZONTAL_UNITS METERS *
HORIZONTAL_RESOLUTION 1.000 *
SECONDARY_HORIZONTAL_DATUM NAD27 *
XY_ORIGIN 748440.000 3953250.000 *
SECONDARY_XY_ORIGIN 748534.560 3953056.646 *
NATION US *
STATE CA *
NW_QUAD_CORNER_XY 748855.872 3952774.020 *
NE_QUAD_CORNER_XY 754513.133 3952934.348 *
SE_QUAD_CORNER_XY 754711.717 3945999.884 *
SW_QUAD_CORNER_XY 749050.033 3945839.675 *
SECONDARY_NW_QUAD_XY 748861.736 3952574.516 *
SECONDARY_NE_QUAD_XY 754519.130 3952734.847 *
SECONDARY_SE_QUAD_XY 754717.709 3945800.563 *
SECONDARY_SW_QUAD_XY 749055.892 3945640.350 *
RMSE_XY 1.422 *
IMAGE_SOURCE "BLACK AND WHITE FILM" *
SOURCE_IMAGE_ID "NAPP 6915 117" *
SOURCE_IMAGE_DATE 1994 04 21 *
SOURCE_IMAGE_ID "NAPP 6915 119" *
SOURCE_IMAGE_DATE 1994 04 21 *
SOURCE_DEM_DATE 1989 01 01 *
AGENCY "WESTERN MAPPING CENTER (WMC)" *
PRODUCER "ANALYTICAL SURVEYS INC." *
PRODUCTION_SYSTEM "ORBIT OR_RECTIFY V.5.2" *
STANDARD_VERSION 1996 12 *
METADATA_DATE 1998 11 23 *
DATA_FILE_SIZE 51090600 *
BYTE_COUNT 6600 * * * * * * * * * * * * * * * * * * * * * * * * * * * * * * * * * * * * * *
END_USGS_HEADER *
