BEGIN_USGS_DOQ_HEADER *
QUADRANGLE_NAME "CHOLAME" *
QUADRANT NW *
NORTH_LATITUDE 35 45 00.000 *
WEST_LONGITUDE -120 22 30.000 *
SOUTH_LATITUDE 35 41 15.000 *
EAST_LONGITUDE -120 18 45.000 *
PRODUCTION_DATE 1998 11 02 *
RASTER_ORDER LEFT_RIGHT/TOP_BOTTOM *
BAND_ORGANIZATION "SINGLE FILE" *
BAND_CONTENT BLACK&WHITE *
BITS_PER_PIXEL 8 *
SAMPLES_AND_LINES 6570 7740 *
HORIZONTAL_DATUM NAD83 *
HORIZONTAL_COORDINATE_SYSTEM UTM *
COORDINATE_ZONE 10 *
HORIZONTAL_UNITS METERS *
HORIZONTAL_RESOLUTION 1.000 *
SECONDARY_HORIZONTAL_DATUM NAD27 *
XY_ORIGIN 736950.000 3959880.000 *
SECONDARY_XY_ORIGIN 737044.734 3959686.329 *
NATION US *
STATE CA *
NW_QUAD_CORNER_XY 737356.034 3959398.371 *
NE_QUAD_CORNER_XY 743008.678 3959551.590 *
SE_QUAD_CORNER_XY 743198.706 3952617.304 *
SW_QUAD_CORNER_XY 737541.634 3952464.198 *
SECONDARY_NW_QUAD_XY 737361.635 3959198.680 *
SECONDARY_NE_QUAD_XY 743014.413 3959351.902 *
SECONDARY_SE_QUAD_XY 743204.436 3952417.796 *
SECONDARY_SW_QUAD_XY 737547.230 3952264.686 *
RMSE_XY 2.078 *
IMAGE_SOURCE "BLACK AND WHITE FILM" *
SOURCE_IMAGE_ID "NAPP 6915 30" *
SOURCE_IMAGE_DATE 1994 04 21 *
SOURCE_DEM_DATE 1989 01 01 *
AGENCY "WESTERN MAPPING CENTER (WMC)" *
PRODUCER "ANALYTICAL SURVEYS INC." *
PRODUCTION_SYSTEM "ORBIT OR_RECTIFY V.5.2" *
STANDARD_VERSION 1996 12 *
METADATA_DATE 1998 11 04 *
DATA_FILE_SIZE 50858370 *
BYTE_COUNT 6570 * * * * * * * * * * * * * * * * * * * * * * * * * * * * * * * * * * * * * * * *
END_USGS_HEADER *
