BEGIN_USGS_DOQ_HEADER *
QUADRANGLE_NAME "CHOLAME" *
QUADRANT SW *
NORTH_LATITUDE 35 41 15.000 *
WEST_LONGITUDE -120 22 30.000 *
SOUTH_LATITUDE 35 37 30.000 *
EAST_LONGITUDE -120 18 45.000 *
PRODUCTION_DATE 1998 11 02 *
RASTER_ORDER LEFT_RIGHT/TOP_BOTTOM *
BAND_ORGANIZATION "SINGLE FILE" *
BAND_CONTENT BLACK&WHITE *
BITS_PER_PIXEL 8 *
SAMPLES_AND_LINES 6570 7710 *
HORIZONTAL_DATUM NAD83 *
HORIZONTAL_COORDINATE_SYSTEM UTM *
COORDINATE_ZONE 10 *
HORIZONTAL_UNITS METERS *
HORIZONTAL_RESOLUTION 1.000 *
SECONDARY_HORIZONTAL_DATUM NAD27 *
XY_ORIGIN 737130.000 3952920.000 *
SECONDARY_XY_ORIGIN 737224.888 3952726.398 *
NATION US *
STATE CA *
NW_QUAD_CORNER_XY 737541.634 3952464.198 *
NE_QUAD_CORNER_XY 743198.706 3952617.304 *
SE_QUAD_CORNER_XY 743388.445 3945683.075 *
SW_QUAD_CORNER_XY 737726.950 3945530.082 *
SECONDARY_NW_QUAD_XY 737547.230 3952264.686 *
SECONDARY_NE_QUAD_XY 743204.436 3952417.796 *
SECONDARY_SE_QUAD_XY 743394.170 3945483.746 *
SECONDARY_SW_QUAD_XY 737732.542 3945330.749 *
RMSE_XY 1.871 *
IMAGE_SOURCE "BLACK AND WHITE FILM" *
SOURCE_IMAGE_ID "NAPP 6915 32" *
SOURCE_IMAGE_DATE 1994 04 21 *
SOURCE_DEM_DATE 1989 01 01 *
AGENCY "WESTERN MAPPING CENTER (WMC)" *
PRODUCER "ANALYTICAL SURVEYS INC." *
PRODUCTION_SYSTEM "ORBIT OR_RECTIFY V.5.2" *
STANDARD_VERSION 1996 12 *
METADATA_DATE 1998 11 04 *
DATA_FILE_SIZE 50661270 *
BYTE_COUNT 6570 * * * * * * * * * * * * * * * * * * * * * * * * * * * * * * * * * * * * * * * *
END_USGS_HEADER *
