BEGIN_USGS_DOQ_HEADER *
QUADRANGLE_NAME "SHANDON" *
QUADRANT NW *
NORTH_LATITUDE 35 45 00.000 *
WEST_LONGITUDE -120 30 00.000 *
SOUTH_LATITUDE 35 41 15.000 *
EAST_LONGITUDE -120 26 15.000 *
PRODUCTION_DATE 1998 11 02 *
RASTER_ORDER LEFT_RIGHT/TOP_BOTTOM *
BAND_ORGANIZATION "SINGLE FILE" *
BAND_CONTENT BLACK&WHITE *
BITS_PER_PIXEL 8 *
SAMPLES_AND_LINES 6570 7710 *
HORIZONTAL_DATUM NAD83 *
HORIZONTAL_COORDINATE_SYSTEM UTM *
COORDINATE_ZONE 10 *
HORIZONTAL_UNITS METERS *
HORIZONTAL_RESOLUTION 1.000 *
SECONDARY_HORIZONTAL_DATUM NAD27 *
XY_ORIGIN 725640.000 3959550.000 *
SECONDARY_XY_ORIGIN 725735.107 3959356.037 *
NATION US *
STATE CA *
NW_QUAD_CORNER_XY 726051.014 3959102.772 *
NE_QUAD_CORNER_XY 731703.480 3959248.766 *
SE_QUAD_CORNER_XY 731884.652 3952314.702 *
SW_QUAD_CORNER_XY 726227.759 3952168.816 *
SECONDARY_NW_QUAD_XY 726056.349 3958903.074 *
SECONDARY_NE_QUAD_XY 731708.948 3959049.071 *
SECONDARY_SE_QUAD_XY 731890.115 3952115.187 *
SECONDARY_SW_QUAD_XY 726233.088 3951969.297 *
RMSE_XY 2.391 *
IMAGE_SOURCE "BLACK AND WHITE FILM" *
SOURCE_IMAGE_ID "NAPP 6926 27" *
SOURCE_IMAGE_DATE 1994 09 04 *
SOURCE_IMAGE_ID "NAPP 6926 25" *
SOURCE_IMAGE_DATE 1994 09 04 *
SOURCE_DEM_DATE 1989 01 01 *
AGENCY "WESTERN MAPPING CENTER (WMC)" *
PRODUCER "ANALYTICAL SURVEYS INC." *
PRODUCTION_SYSTEM "ORBIT OR_RECTIFY V.5.2" *
STANDARD_VERSION 1996 12 *
METADATA_DATE 1998 11 04 *
DATA_FILE_SIZE 50661270 *
BYTE_COUNT 6570 * * * * * * * * * * * * * * * * * * * * * * * * * * * * * * * * * * * * * *
END_USGS_HEADER *
