BEGIN_USGS_DOQ_HEADER *
QUADRANGLE_NAME "SHANDON" *
QUADRANT SW *
NORTH_LATITUDE 35 41 15.000 *
WEST_LONGITUDE -120 30 00.000 *
SOUTH_LATITUDE 35 37 30.000 *
EAST_LONGITUDE -120 26 15.000 *
PRODUCTION_DATE 1998 11 02 *
RASTER_ORDER LEFT_RIGHT/TOP_BOTTOM *
BAND_ORGANIZATION "SINGLE FILE" *
BAND_CONTENT BLACK&WHITE *
BITS_PER_PIXEL 8 *
SAMPLES_AND_LINES 6570 7710 *
HORIZONTAL_DATUM NAD83 *
HORIZONTAL_COORDINATE_SYSTEM UTM *
COORDINATE_ZONE 10 *
HORIZONTAL_UNITS METERS *
HORIZONTAL_RESOLUTION 1.000 *
SECONDARY_HORIZONTAL_DATUM NAD27 *
XY_ORIGIN 725820.000 3952620.000 *
SECONDARY_XY_ORIGIN 725915.219 3952426.141 *
NATION US *
STATE CA *
NW_QUAD_CORNER_XY 726227.759 3952168.816 *
NE_QUAD_CORNER_XY 731884.652 3952314.702 *
SE_QUAD_CORNER_XY 732065.547 3945380.696 *
SW_QUAD_CORNER_XY 726404.233 3945234.918 *
SECONDARY_NW_QUAD_XY 726233.088 3951969.297 *
SECONDARY_NE_QUAD_XY 731890.115 3952115.187 *
SECONDARY_SE_QUAD_XY 732071.006 3945181.360 *
SECONDARY_SW_QUAD_XY 726409.559 3945035.578 *
RMSE_XY 1.837 *
IMAGE_SOURCE "BLACK AND WHITE FILM" *
SOURCE_IMAGE_ID "NAPP 6926 25" *
SOURCE_IMAGE_DATE 1994 09 04 *
SOURCE_DEM_DATE 1989 01 01 *
AGENCY "WESTERN MAPPING CENTER (WMC)" *
PRODUCER "ANALYTICAL SURVEYS INC." *
PRODUCTION_SYSTEM "ORBIT OR_RECTIFY V.5.2" *
STANDARD_VERSION 1996 12 *
METADATA_DATE 1998 11 04 *
DATA_FILE_SIZE 50661270 *
BYTE_COUNT 6570 * * * * * * * * * * * * * * * * * * * * * * * * * * * * * * * * * * * * * * * *
END_USGS_HEADER *
