BEGIN_USGS_DOQ_HEADER *
QUADRANGLE_NAME "ESTRELLA" *
QUADRANT NW *
NORTH_LATITUDE 35 45 00.000 *
WEST_LONGITUDE -120 37 30.000 *
SOUTH_LATITUDE 35 41 15.000 *
EAST_LONGITUDE -120 33 45.000 *
PRODUCTION_DATE 1998 11 02 *
RASTER_ORDER LEFT_RIGHT/TOP_BOTTOM *
BAND_ORGANIZATION "SINGLE FILE" *
BAND_CONTENT BLACK&WHITE *
BITS_PER_PIXEL 8 *
SAMPLES_AND_LINES 6570 7710 *
HORIZONTAL_DATUM NAD83 *
HORIZONTAL_COORDINATE_SYSTEM UTM *
COORDINATE_ZONE 10 *
HORIZONTAL_UNITS METERS *
HORIZONTAL_RESOLUTION 1.000 *
SECONDARY_HORIZONTAL_DATUM NAD27 *
XY_ORIGIN 714330.000 3959280.000 *
SECONDARY_XY_ORIGIN 714425.489 3959085.997 *
NATION US *
STATE CA *
NW_QUAD_CORNER_XY 714746.338 3958821.619 *
NE_QUAD_CORNER_XY 720398.634 3958960.390 *
SE_QUAD_CORNER_XY 720570.952 3952026.538 *
SW_QUAD_CORNER_XY 714914.230 3951887.869 *
SECONDARY_NW_QUAD_XY 714751.406 3958621.914 *
SECONDARY_NE_QUAD_XY 720403.835 3958760.689 *
SECONDARY_SE_QUAD_XY 720576.149 3951827.016 *
SECONDARY_SW_QUAD_XY 714919.293 3951688.343 *
RMSE_XY 2.045 *
IMAGE_SOURCE "BLACK AND WHITE FILM" *
SOURCE_IMAGE_ID "NAPP 6923 73" *
SOURCE_IMAGE_DATE 1994 05 28 *
SOURCE_DEM_DATE 1976 01 01 *
AGENCY "WESTERN MAPPING CENTER (WMC)" *
PRODUCER "ANALYTICAL SURVEYS INC." *
PRODUCTION_SYSTEM "ORBIT OR_RECTIFY V.5.2" *
STANDARD_VERSION 1996 12 *
METADATA_DATE 1998 11 04 *
DATA_FILE_SIZE 50661270 *
BYTE_COUNT 6570 * * * * * * * * * * * * * * * * * * * * * * * * * * * * * * * * * * * * * * * *
END_USGS_HEADER *
