BEGIN_USGS_DOQ_HEADER *
QUADRANGLE_NAME "ESTRELLA" *
QUADRANT SE *
NORTH_LATITUDE 35 41 15.000 *
WEST_LONGITUDE -120 33 45.000 *
SOUTH_LATITUDE 35 37 30.000 *
EAST_LONGITUDE -120 30 00.000 *
PRODUCTION_DATE 1998 11 02 *
RASTER_ORDER LEFT_RIGHT/TOP_BOTTOM *
BAND_ORGANIZATION "SINGLE FILE" *
BAND_CONTENT BLACK&WHITE *
BITS_PER_PIXEL 8 *
SAMPLES_AND_LINES 6540 7710 *
HORIZONTAL_DATUM NAD83 *
HORIZONTAL_COORDINATE_SYSTEM UTM *
COORDINATE_ZONE 10 *
HORIZONTAL_UNITS METERS *
HORIZONTAL_RESOLUTION 1.000 *
SECONDARY_HORIZONTAL_DATUM NAD27 *
XY_ORIGIN 720180.000 3952470.000 *
SECONDARY_XY_ORIGIN 720275.394 3952276.100 *
NATION US *
STATE CA *
NW_QUAD_CORNER_XY 720570.952 3952026.538 *
NE_QUAD_CORNER_XY 726227.759 3952168.816 *
SE_QUAD_CORNER_XY 726404.233 3945234.918 *
SW_QUAD_CORNER_XY 720743.007 3945092.745 *
SECONDARY_NW_QUAD_XY 720576.149 3951827.016 *
SECONDARY_NE_QUAD_XY 726233.088 3951969.297 *
SECONDARY_SE_QUAD_XY 726409.559 3945035.578 *
SECONDARY_SW_QUAD_XY 720748.199 3944893.402 *
RMSE_XY 1.759 *
IMAGE_SOURCE "BLACK AND WHITE FILM" *
SOURCE_IMAGE_ID "NAPP 6923 231" *
SOURCE_IMAGE_DATE 1994 05 28 *
SOURCE_DEM_DATE 1976 01 01 *
AGENCY "WESTERN MAPPING CENTER (WMC)" *
PRODUCER "ANALYTICAL SURVEYS INC." *
PRODUCTION_SYSTEM "ORBIT OR_RECTIFY V.5.2" *
STANDARD_VERSION 1996 12 *
METADATA_DATE 1998 11 04 *
DATA_FILE_SIZE 50429940 *
BYTE_COUNT 6540 * * * * * * * * * * * * * * * * * * * * * * * * * * * * * * * * * * * * * * *
END_USGS_HEADER *
