BEGIN_USGS_DOQ_HEADER *
QUADRANGLE_NAME "PASO ROBLES" *
QUADRANT NE *
NORTH_LATITUDE 35 45 00.000 *
WEST_LONGITUDE -120 41 15.000 *
SOUTH_LATITUDE 35 41 15.000 *
EAST_LONGITUDE -120 37 30.000 *
PRODUCTION_DATE 1998 11 02 *
RASTER_ORDER LEFT_RIGHT/TOP_BOTTOM *
BAND_ORGANIZATION "SINGLE FILE" *
BAND_CONTENT BLACK&WHITE *
BITS_PER_PIXEL 8 *
SAMPLES_AND_LINES 6540 7710 *
HORIZONTAL_DATUM NAD83 *
HORIZONTAL_COORDINATE_SYSTEM UTM *
COORDINATE_ZONE 10 *
HORIZONTAL_UNITS METERS *
HORIZONTAL_RESOLUTION 1.000 *
SECONDARY_HORIZONTAL_DATUM NAD27 *
XY_ORIGIN 708690.000 3959130.000 *
SECONDARY_XY_ORIGIN 708785.679 3958935.978 *
NATION US *
STATE CA *
NW_QUAD_CORNER_XY 709094.124 3958686.458 *
NE_QUAD_CORNER_XY 714746.338 3958821.619 *
SE_QUAD_CORNER_XY 714914.230 3951887.869 *
SW_QUAD_CORNER_XY 709257.590 3951752.807 *
SECONDARY_NW_QUAD_XY 709099.058 3958486.750 *
SECONDARY_NE_QUAD_XY 714751.406 3958621.914 *
SECONDARY_SE_QUAD_XY 714919.293 3951688.343 *
SECONDARY_SW_QUAD_XY 709262.520 3951553.278 *
RMSE_XY 2.647 *
IMAGE_SOURCE "BLACK AND WHITE FILM" *
SOURCE_IMAGE_ID "NAPP 6921 14" *
SOURCE_IMAGE_DATE 1994 09 03 *
SOURCE_DEM_DATE 1976 01 01 *
AGENCY "WESTERN MAPPING CENTER (WMC)" *
PRODUCER "ANALYTICAL SURVEYS INC." *
PRODUCTION_SYSTEM "ORBIT OR_RECTIFY V.5.2" *
STANDARD_VERSION 1996 12 *
METADATA_DATE 1998 11 04 *
DATA_FILE_SIZE 50429940 *
BYTE_COUNT 6540 * * * * * * * * * * * * * * * * * * * * * * * * * * * * * * * * * * * * * * *
END_USGS_HEADER *
