BEGIN_USGS_DOQ_HEADER *
QUADRANGLE_NAME "PASO ROBLES" *
QUADRANT SE *
NORTH_LATITUDE 35 41 15.000 *
WEST_LONGITUDE -120 41 15.000 *
SOUTH_LATITUDE 35 37 30.000 *
EAST_LONGITUDE -120 37 30.000 *
PRODUCTION_DATE 1998 11 02 *
RASTER_ORDER LEFT_RIGHT/TOP_BOTTOM *
BAND_ORGANIZATION "SINGLE FILE" *
BAND_CONTENT BLACK&WHITE *
BITS_PER_PIXEL 8 *
SAMPLES_AND_LINES 6570 7710 *
HORIZONTAL_DATUM NAD83 *
HORIZONTAL_COORDINATE_SYSTEM UTM *
COORDINATE_ZONE 10 *
HORIZONTAL_UNITS METERS *
HORIZONTAL_RESOLUTION 1.000 *
SECONDARY_HORIZONTAL_DATUM NAD27 *
XY_ORIGIN 708840.000 3952200.000 *
SECONDARY_XY_ORIGIN 708935.741 3952006.028 *
NATION US *
STATE CA *
NW_QUAD_CORNER_XY 709257.590 3951752.807 *
NE_QUAD_CORNER_XY 714914.230 3951887.869 *
SE_QUAD_CORNER_XY 715081.866 3944954.178 *
SW_QUAD_CORNER_XY 709420.807 3944819.217 *
SECONDARY_NW_QUAD_XY 709262.520 3951553.278 *
SECONDARY_NE_QUAD_XY 714919.293 3951688.343 *
SECONDARY_SE_QUAD_XY 715086.924 3944754.832 *
SECONDARY_SW_QUAD_XY 709425.733 3944619.868 *
RMSE_XY 1.813 *
IMAGE_SOURCE "BLACK AND WHITE FILM" *
SOURCE_IMAGE_ID "NAPP 6921 16" *
SOURCE_IMAGE_DATE 1994 09 03 *
SOURCE_DEM_DATE 1976 01 01 *
AGENCY "WESTERN MAPPING CENTER (WMC)" *
PRODUCER "ANALYTICAL SURVEYS INC." *
PRODUCTION_SYSTEM "ORBIT OR_RECTIFY V.5.2" *
STANDARD_VERSION 1996 12 *
METADATA_DATE 1998 11 04 *
DATA_FILE_SIZE 50661270 *
BYTE_COUNT 6570 * * * * * * * * * * * * * * * * * * * * * * * * * * * * * * * * * * * * * * * *
END_USGS_HEADER *
