BEGIN_USGS_DOQ_HEADER *
QUADRANGLE_NAME "PASO ROBLES" *
QUADRANT SW *
NORTH_LATITUDE 35 41 15.000 *
WEST_LONGITUDE -120 45 00.000 *
SOUTH_LATITUDE 35 37 30.000 *
EAST_LONGITUDE -120 41 15.000 *
PRODUCTION_DATE 1998 11 02 *
RASTER_ORDER LEFT_RIGHT/TOP_BOTTOM *
BAND_ORGANIZATION "SINGLE FILE" *
BAND_CONTENT BLACK&WHITE *
BITS_PER_PIXEL 8 *
SAMPLES_AND_LINES 6540 7710 *
HORIZONTAL_DATUM NAD83 *
HORIZONTAL_COORDINATE_SYSTEM UTM *
COORDINATE_ZONE 10 *
HORIZONTAL_UNITS METERS *
HORIZONTAL_RESOLUTION 1.000 *
SECONDARY_HORIZONTAL_DATUM NAD27 *
XY_ORIGIN 703200.000 3952080.000 *
SECONDARY_XY_ORIGIN 703295.914 3951885.992 *
NATION US *
STATE CA *
NW_QUAD_CORNER_XY 703601.031 3951621.353 *
NE_QUAD_CORNER_XY 709257.590 3951752.807 *
SE_QUAD_CORNER_XY 709420.807 3944819.217 *
SW_QUAD_CORNER_XY 703759.829 3944687.860 *
SECONDARY_NW_QUAD_XY 703605.827 3951421.821 *
SECONDARY_NE_QUAD_XY 709262.520 3951553.278 *
SECONDARY_SE_QUAD_XY 709425.733 3944619.868 *
SECONDARY_SW_QUAD_XY 703764.622 3944488.508 *
RMSE_XY 1.608 *
IMAGE_SOURCE "BLACK AND WHITE FILM" *
SOURCE_IMAGE_ID "NAPP 6928 20" *
SOURCE_IMAGE_DATE 1994 09 15 *
SOURCE_DEM_DATE 1976 01 01 *
AGENCY "WESTERN MAPPING CENTER (WMC)" *
PRODUCER "ANALYTICAL SURVEYS INC." *
PRODUCTION_SYSTEM "ORBIT OR_RECTIFY V.5.2" *
STANDARD_VERSION 1996 12 *
METADATA_DATE 1998 11 04 *
DATA_FILE_SIZE 50429940 *
BYTE_COUNT 6540 * * * * * * * * * * * * * * * * * * * * * * * * * * * * * * * * * * * * * * *
END_USGS_HEADER *
