BEGIN_USGS_DOQ_HEADER *
QUADRANGLE_NAME "ADELAIDA" *
QUADRANT NE *
NORTH_LATITUDE 35 45 00.000 *
WEST_LONGITUDE -120 48 45.000 *
SOUTH_LATITUDE 35 41 15.000 *
EAST_LONGITUDE -120 45 00.000 *
PRODUCTION_DATE 1998 11 15 *
RASTER_ORDER LEFT_RIGHT/TOP_BOTTOM *
BAND_ORGANIZATION "SINGLE FILE" *
BAND_CONTENT BLACK&WHITE *
BITS_PER_PIXEL 8 *
SAMPLES_AND_LINES 6540 7680 *
HORIZONTAL_DATUM NAD83 *
HORIZONTAL_COORDINATE_SYSTEM UTM *
COORDINATE_ZONE 10 *
HORIZONTAL_UNITS METERS *
HORIZONTAL_RESOLUTION 1.000 *
SECONDARY_HORIZONTAL_DATUM NAD27 *
XY_ORIGIN 697380.000 3958860.000 *
SECONDARY_XY_ORIGIN 697476.053 3958665.883 *
NATION US *
STATE CA *
NW_QUAD_CORNER_XY 697789.932 3958426.966 *
NE_QUAD_CORNER_XY 703441.989 3958554.907 *
SE_QUAD_CORNER_XY 703601.031 3951621.353 *
SW_QUAD_CORNER_XY 697944.549 3951493.506 *
SECONDARY_NW_QUAD_XY 697794.599 3958227.252 *
SECONDARY_NE_QUAD_XY 703446.790 3958355.196 *
SECONDARY_SE_QUAD_XY 703605.827 3951421.821 *
SECONDARY_SW_QUAD_XY 697949.212 3951293.971 *
RMSE_XY 2.441 *
IMAGE_SOURCE "BLACK AND WHITE FILM" *
SOURCE_IMAGE_ID "NAPP 6920 245" *
SOURCE_IMAGE_DATE 1994 05 13 *
SOURCE_DEM_DATE 1948 01 01 *
AGENCY "WESTERN MAPPING CENTER (WMC)" *
PRODUCER "ANALYTICAL SURVEYS INC." *
PRODUCTION_SYSTEM "ORBIT OR_RECTIFY V.5.2" *
STANDARD_VERSION 1996 12 *
METADATA_DATE 1998 11 15 *
DATA_FILE_SIZE 50233740 *
BYTE_COUNT 6540 * * * * * * * * * * * * * * * * * * * * * * * * * * * * * * * * * * * * * * *
END_USGS_HEADER *
