BEGIN_USGS_DOQ_HEADER *
QUADRANGLE_NAME "ADELAIDA" *
QUADRANT SW *
NORTH_LATITUDE 35 41 15.000 *
WEST_LONGITUDE -120 52 30.000 *
SOUTH_LATITUDE 35 37 30.000 *
EAST_LONGITUDE -120 48 45.000 *
PRODUCTION_DATE 1998 11 15 *
RASTER_ORDER LEFT_RIGHT/TOP_BOTTOM *
BAND_ORGANIZATION "SINGLE FILE" *
BAND_CONTENT BLACK&WHITE *
BITS_PER_PIXEL 8 *
SAMPLES_AND_LINES 6510 7680 *
HORIZONTAL_DATUM NAD83 *
HORIZONTAL_COORDINATE_SYSTEM UTM *
COORDINATE_ZONE 10 *
HORIZONTAL_UNITS METERS *
HORIZONTAL_RESOLUTION 1.000 *
SECONDARY_HORIZONTAL_DATUM NAD27 *
XY_ORIGIN 691890.000 3951810.000 *
SECONDARY_XY_ORIGIN 691986.272 3951615.852 *
NATION US *
STATE CA *
NW_QUAD_CORNER_XY 692288.143 3951369.265 *
NE_QUAD_CORNER_XY 697944.549 3951493.506 *
SE_QUAD_CORNER_XY 698098.930 3944560.107 *
SW_QUAD_CORNER_XY 692438.107 3944435.959 *
SECONDARY_NW_QUAD_XY 692292.673 3951169.727 *
SECONDARY_NE_QUAD_XY 697949.212 3951293.971 *
SECONDARY_SE_QUAD_XY 698103.589 3944360.752 *
SECONDARY_SW_QUAD_XY 692442.633 3944236.600 *
RMSE_XY 2.415 *
IMAGE_SOURCE "BLACK AND WHITE FILM" *
SOURCE_IMAGE_ID "NAPP 6923 201" *
SOURCE_IMAGE_DATE 1994 05 28 *
SOURCE_DEM_DATE 1948 01 01 *
AGENCY "WESTERN MAPPING CENTER (WMC)" *
PRODUCER "ANALYTICAL SURVEYS INC." *
PRODUCTION_SYSTEM "ORBIT OR_RECTIFY V.5.2" *
STANDARD_VERSION 1996 12 *
METADATA_DATE 1998 11 15 *
DATA_FILE_SIZE 50003310 *
BYTE_COUNT 6510 * * * * * * * * * * * * * * * * * * * * * * * * * * * * * * * * * * * * * * *
END_USGS_HEADER *
