BEGIN_USGS_DOQ_HEADER *
QUADRANGLE_NAME "LIME MOUNTAIN" *
QUADRANT NE *
NORTH_LATITUDE 35 45 00.000 *
WEST_LONGITUDE -120 56 15.000 *
SOUTH_LATITUDE 35 41 15.000 *
EAST_LONGITUDE -120 52 30.000 *
PRODUCTION_DATE 1998 11 15 *
RASTER_ORDER LEFT_RIGHT/TOP_BOTTOM *
BAND_ORGANIZATION "SINGLE FILE" *
BAND_CONTENT BLACK&WHITE *
BITS_PER_PIXEL 8 *
SAMPLES_AND_LINES 6540 7680 *
HORIZONTAL_DATUM NAD83 *
HORIZONTAL_COORDINATE_SYSTEM UTM *
COORDINATE_ZONE 10 *
HORIZONTAL_UNITS METERS *
HORIZONTAL_RESOLUTION 1.000 *
SECONDARY_HORIZONTAL_DATUM NAD27 *
XY_ORIGIN 686070.000 3958620.000 *
SECONDARY_XY_ORIGIN 686166.412 3958425.721 *
NATION US *
STATE CA *
NW_QUAD_CORNER_XY 686486.041 3958181.911 *
NE_QUAD_CORNER_XY 692137.950 3958302.634 *
SE_QUAD_CORNER_XY 692288.143 3951369.265 *
SW_QUAD_CORNER_XY 686631.811 3951248.631 *
SECONDARY_NW_QUAD_XY 686490.441 3957982.191 *
SECONDARY_NE_QUAD_XY 692142.483 3958102.918 *
SECONDARY_SE_QUAD_XY 692292.673 3951169.727 *
SECONDARY_SW_QUAD_XY 686636.207 3951049.090 *
RMSE_XY 2.557 *
IMAGE_SOURCE "BLACK AND WHITE FILM" *
SOURCE_IMAGE_ID "NAPP 6917 129" *
SOURCE_IMAGE_DATE 1994 05 10 *
SOURCE_DEM_DATE 1976 01 01 *
AGENCY "WESTERN MAPPING CENTER (WMC)" *
PRODUCER "ANALYTICAL SURVEYS INC." *
PRODUCTION_SYSTEM "ORBIT OR_RECTIFY V.5.2" *
STANDARD_VERSION 1996 12 *
METADATA_DATE 1998 11 15 *
DATA_FILE_SIZE 50233740 *
BYTE_COUNT 6540 * * * * * * * * * * * * * * * * * * * * * * * * * * * * * * * * * * * * * * *
END_USGS_HEADER *
