BEGIN_USGS_DOQ_HEADER *
QUADRANGLE_NAME "LIME MOUNTAIN" *
QUADRANT SE *
NORTH_LATITUDE 35 41 15.000 *
WEST_LONGITUDE -120 56 15.000 *
SOUTH_LATITUDE 35 37 30.000 *
EAST_LONGITUDE -120 52 30.000 *
PRODUCTION_DATE 1998 11 15 *
RASTER_ORDER LEFT_RIGHT/TOP_BOTTOM *
BAND_ORGANIZATION "SINGLE FILE" *
BAND_CONTENT BLACK&WHITE *
BITS_PER_PIXEL 8 *
SAMPLES_AND_LINES 6540 7680 *
HORIZONTAL_DATUM NAD83 *
HORIZONTAL_COORDINATE_SYSTEM UTM *
COORDINATE_ZONE 10 *
HORIZONTAL_UNITS METERS *
HORIZONTAL_RESOLUTION 1.000 *
SECONDARY_HORIZONTAL_DATUM NAD27 *
XY_ORIGIN 686220.000 3951690.000 *
SECONDARY_XY_ORIGIN 686316.450 3951495.778 *
NATION US *
STATE CA *
NW_QUAD_CORNER_XY 686631.811 3951248.631 *
NE_QUAD_CORNER_XY 692288.143 3951369.265 *
SE_QUAD_CORNER_XY 692438.107 3944435.959 *
SW_QUAD_CORNER_XY 686777.358 3944315.413 *
SECONDARY_NW_QUAD_XY 686636.207 3951049.090 *
SECONDARY_NE_QUAD_XY 692292.673 3951169.727 *
SECONDARY_SE_QUAD_XY 692442.633 3944236.600 *
SECONDARY_SW_QUAD_XY 686781.751 3944116.052 *
RMSE_XY 2.116 *
IMAGE_SOURCE "BLACK AND WHITE FILM" *
SOURCE_IMAGE_ID "NAPP 6917 131" *
SOURCE_IMAGE_DATE 1994 05 10 *
SOURCE_DEM_DATE 1976 01 01 *
AGENCY "WESTERN MAPPING CENTER (WMC)" *
PRODUCER "ANALYTICAL SURVEYS INC." *
PRODUCTION_SYSTEM "ORBIT OR_RECTIFY V.5.2" *
STANDARD_VERSION 1996 12 *
METADATA_DATE 1998 11 15 *
DATA_FILE_SIZE 50233740 *
BYTE_COUNT 6540 * * * * * * * * * * * * * * * * * * * * * * * * * * * * * * * * * * * * * * *
END_USGS_HEADER *
