BEGIN_USGS_DOQ_HEADER *
QUADRANGLE_NAME "LIME MOUNTAIN" *
QUADRANT SW *
NORTH_LATITUDE 35 41 15.000 *
WEST_LONGITUDE -121 00 00.000 *
SOUTH_LATITUDE 35 37 30.000 *
EAST_LONGITUDE -120 56 15.000 *
PRODUCTION_DATE 1998 11 15 *
RASTER_ORDER LEFT_RIGHT/TOP_BOTTOM *
BAND_ORGANIZATION "SINGLE FILE" *
BAND_CONTENT BLACK&WHITE *
BITS_PER_PIXEL 8 *
SAMPLES_AND_LINES 6510 7680 *
HORIZONTAL_DATUM NAD83 *
HORIZONTAL_COORDINATE_SYSTEM UTM *
COORDINATE_ZONE 10 *
HORIZONTAL_UNITS METERS *
HORIZONTAL_RESOLUTION 1.000 *
SECONDARY_HORIZONTAL_DATUM NAD27 *
XY_ORIGIN 680580.000 3951570.000 *
SECONDARY_XY_ORIGIN 680676.626 3951375.704 *
NATION US *
STATE CA *
NW_QUAD_CORNER_XY 680975.550 3951131.602 *
NE_QUAD_CORNER_XY 686631.811 3951248.631 *
SE_QUAD_CORNER_XY 686777.358 3944315.413 *
SW_QUAD_CORNER_XY 681116.682 3944198.471 *
SECONDARY_NW_QUAD_XY 680979.813 3950932.058 *
SECONDARY_NE_QUAD_XY 686636.207 3951049.090 *
SECONDARY_SE_QUAD_XY 686781.751 3944116.052 *
SECONDARY_SW_QUAD_XY 681120.941 3943999.107 *
RMSE_XY 4.280 *
IMAGE_SOURCE "BLACK AND WHITE FILM" *
SOURCE_IMAGE_ID "NAPP 6917 142" *
SOURCE_IMAGE_DATE 1994 05 10 *
SOURCE_IMAGE_ID "NAPP 6917 144" *
SOURCE_IMAGE_DATE 1994 05 10 *
SOURCE_IMAGE_ID "NAPP 6917 131" *
SOURCE_IMAGE_DATE 1994 05 10 *
SOURCE_DEM_DATE 1976 01 01 *
AGENCY "WESTERN MAPPING CENTER (WMC)" *
PRODUCER "ANALYTICAL SURVEYS INC." *
PRODUCTION_SYSTEM "ORBIT OR_RECTIFY V.5.2" *
STANDARD_VERSION 1996 12 *
METADATA_DATE 1998 11 15 *
DATA_FILE_SIZE 50003310 *
BYTE_COUNT 6510 * * * * * * * * * * * * * * * * * * * * * * * * * * * * * * * * * * *
END_USGS_HEADER *
