BEGIN_USGS_DOQ_HEADER *
QUADRANGLE_NAME "PYRAMID HILLS" *
QUADRANT NE *
WEST_LONGITUDE -120 03 45.000 *
EAST_LONGITUDE -120 00 00.000 *
NORTH_LATITUDE 35 52 30.000 *
SOUTH_LATITUDE 35 48 45.000 *
PRODUCTION_DATE 2000 08 03 *
RASTER_ORDER LEFT_RIGHT/TOP_BOTTOM *
BAND_ORGANIZATION "SINGLE FILE" *
BAND_CONTENT BLACK&WHITE *
BITS_PER_PIXEL 8 *
SAMPLES_AND_LINES 6600 7740 *
HORIZONTAL_DATUM NAD83 *
HORIZONTAL_COORDINATE_SYSTEM UTM *
COORDINATE_ZONE 10 *
HORIZONTAL_UNITS METERS *
HORIZONTAL_RESOLUTION 1.000 *
SECONDARY_HORIZONTAL_DATUM NAD27 *
XY_ORIGIN 764790.000 3974550.000 *
SECONDARY_XY_ORIGIN 764883.846 3974357.203 *
NATION US *
STATE CA *
NW_QUAD_CORNER_XY 765203.752 3974070.282 *
NE_QUAD_CORNER_XY 770847.995 3974241.821 *
SE_QUAD_CORNER_XY 771060.823 3967306.828 *
SW_QUAD_CORNER_XY 765412.134 3967135.414 *
SECONDARY_NW_QUAD_XY 765210.031 3973870.255 *
SECONDARY_NE_QUAD_XY 770854.408 3974041.797 *
SECONDARY_SE_QUAD_XY 771067.231 3967106.982 *
SECONDARY_SW_QUAD_XY 765418.409 3966935.564 *
RMSE_XY 1.080 *
IMAGE_SOURCE "BLACK AND WHITE FILM" *
SOURCE_IMAGE_ID "NAPP 6915 215" *
SOURCE_IMAGE_DATE 1994 04 21 *
SOURCE_DEM_DATE 1994 01 01 *
AGENCY "WESTERN MAPPING CENTER (WMC)" *
PRODUCER "ANALYTICAL SURVEYS INC." *
PRODUCTION_SYSTEM "ORBIT OR_RECTIFY V.5.2" *
STANDARD_VERSION 1996 12 *
METADATA_DATE 2000 08 09 *
DATA_FILE_SIZE 51090600 *
BYTE_COUNT 6600 * * * * * * * * * * * * * * * * * * * * * * * * * * * * * * * * * * * * * * * *
END_USGS_HEADER *
