BEGIN_USGS_DOQ_HEADER *
QUADRANGLE_NAME "PYRAMID HILLS" *
QUADRANT NW *
WEST_LONGITUDE -120 07 30.000 *
EAST_LONGITUDE -120 03 45.000 *
NORTH_LATITUDE 35 52 30.000 *
SOUTH_LATITUDE 35 48 45.000 *
PRODUCTION_DATE 2000 08 03 *
RASTER_ORDER LEFT_RIGHT/TOP_BOTTOM *
BAND_ORGANIZATION "SINGLE FILE" *
BAND_CONTENT BLACK&WHITE *
BITS_PER_PIXEL 8 *
SAMPLES_AND_LINES 6570 7740 *
HORIZONTAL_DATUM NAD83 *
HORIZONTAL_COORDINATE_SYSTEM UTM *
COORDINATE_ZONE 10 *
HORIZONTAL_UNITS METERS *
HORIZONTAL_RESOLUTION 1.000 *
SECONDARY_HORIZONTAL_DATUM NAD27 *
XY_ORIGIN 759150.000 3974400.000 *
SECONDARY_XY_ORIGIN 759243.911 3974207.032 *
NATION US *
STATE CA *
NW_QUAD_CORNER_XY 759559.608 3973902.365 *
NE_QUAD_CORNER_XY 765203.752 3974070.282 *
SE_QUAD_CORNER_XY 765412.134 3967135.414 *
SW_QUAD_CORNER_XY 759763.546 3966967.618 *
SECONDARY_NW_QUAD_XY 759565.754 3973702.334 *
SECONDARY_NE_QUAD_XY 765210.031 3973870.255 *
SECONDARY_SE_QUAD_XY 765418.409 3966935.564 *
SECONDARY_SW_QUAD_XY 759769.686 3966767.764 *
RMSE_XY 1.030 *
IMAGE_SOURCE "BLACK AND WHITE FILM" *
SOURCE_IMAGE_ID "NAPP 6915 186" *
SOURCE_IMAGE_DATE 1994 04 21 *
SOURCE_DEM_DATE 1994 01 01 *
AGENCY "WESTERN MAPPING CENTER (WMC)" *
PRODUCER "ANALYTICAL SURVEYS INC." *
PRODUCTION_SYSTEM "ORBIT OR_RECTIFY V.5.2" *
STANDARD_VERSION 1996 12 *
METADATA_DATE 2000 08 09 *
DATA_FILE_SIZE 50858370 *
BYTE_COUNT 6570 * * * * * * * * * * * * * * * * * * * * * * * * * * * * * * * * * * * * * * * *
END_USGS_HEADER *
