BEGIN_USGS_DOQ_HEADER *
QUADRANGLE_NAME "PYRAMID HILLS" *
QUADRANT SW *
WEST_LONGITUDE -120 07 30.000 *
EAST_LONGITUDE -120 03 45.000 *
NORTH_LATITUDE 35 48 45.000 *
SOUTH_LATITUDE 35 45 00.000 *
PRODUCTION_DATE 1998 11 18 *
RASTER_ORDER LEFT_RIGHT/TOP_BOTTOM *
BAND_ORGANIZATION "SINGLE FILE" *
BAND_CONTENT BLACK&WHITE *
BITS_PER_PIXEL 8 *
SAMPLES_AND_LINES 6570 7740 *
HORIZONTAL_DATUM NAD83 *
HORIZONTAL_COORDINATE_SYSTEM UTM *
COORDINATE_ZONE 10 *
HORIZONTAL_UNITS METERS *
HORIZONTAL_RESOLUTION 1.000 *
SECONDARY_HORIZONTAL_DATUM NAD27 *
XY_ORIGIN 759360.000 3967440.000 *
SECONDARY_XY_ORIGIN 759454.070 3967246.988 *
NATION US *
STATE CA *
NW_QUAD_CORNER_XY 759763.546 3966967.618 *
NE_QUAD_CORNER_XY 765412.134 3967135.414 *
SE_QUAD_CORNER_XY 765620.200 3960200.599 *
SW_QUAD_CORNER_XY 759967.174 3960032.925 *
SECONDARY_NW_QUAD_XY 759769.686 3966767.764 *
SECONDARY_NE_QUAD_XY 765418.409 3966935.564 *
SECONDARY_SE_QUAD_XY 765626.469 3960000.927 *
SECONDARY_SW_QUAD_XY 759973.309 3959833.249 *
RMSE_XY 2.200 *
IMAGE_SOURCE "BLACK AND WHITE FILM" *
SOURCE_IMAGE_ID "NAPP 6915 188" *
SOURCE_IMAGE_DATE 1994 04 21 *
SOURCE_DEM_DATE 1994 01 01 *
AGENCY "WESTERN MAPPING CENTER (WMC)" *
PRODUCER "ANALYTICAL SURVEYS INC." *
PRODUCTION_SYSTEM "ORBIT OR_RECTIFY V.5.2" *
STANDARD_VERSION 1996 12 *
METADATA_DATE 1998 11 22 *
DATA_FILE_SIZE 50858370 *
BYTE_COUNT 6570 * * * * * * * * * * * * * * * * * * * * * * * * * * * * * * * * * * * * * * * *
END_USGS_HEADER *
