BEGIN_USGS_DOQ_HEADER *
QUADRANGLE_NAME "TENT HILLS" *
QUADRANT NW *
WEST_LONGITUDE -120 15 00.000 *
EAST_LONGITUDE -120 11 15.000 *
NORTH_LATITUDE 35 52 30.000 *
SOUTH_LATITUDE 35 48 45.000 *
PRODUCTION_DATE 1998 11 18 *
RASTER_ORDER LEFT_RIGHT/TOP_BOTTOM *
BAND_ORGANIZATION "SINGLE FILE" *
BAND_CONTENT BLACK&WHITE *
BITS_PER_PIXEL 8 *
SAMPLES_AND_LINES 6570 7710 *
HORIZONTAL_DATUM NAD83 *
HORIZONTAL_COORDINATE_SYSTEM UTM *
COORDINATE_ZONE 10 *
HORIZONTAL_UNITS METERS *
HORIZONTAL_RESOLUTION 1.000 *
SECONDARY_HORIZONTAL_DATUM NAD27 *
XY_ORIGIN 747870.000 3974040.000 *
SECONDARY_XY_ORIGIN 747964.044 3973846.688 *
NATION US *
STATE CA *
NW_QUAD_CORNER_XY 748271.611 3973577.389 *
NE_QUAD_CORNER_XY 753915.562 3973738.067 *
SE_QUAD_CORNER_XY 754115.055 3966803.439 *
SW_QUAD_CORNER_XY 748466.661 3966642.877 *
SECONDARY_NW_QUAD_XY 748277.489 3973377.350 *
SECONDARY_NE_QUAD_XY 753921.574 3973538.032 *
SECONDARY_SE_QUAD_XY 754121.062 3966603.581 *
SECONDARY_SW_QUAD_XY 748472.534 3966443.016 *
RMSE_XY 2.568 *
IMAGE_SOURCE "BLACK AND WHITE FILM" *
SOURCE_IMAGE_ID "NAPP 6915 111" *
SOURCE_IMAGE_DATE 1994 04 21 *
SOURCE_IMAGE_ID "NAPP 6915 144" *
SOURCE_IMAGE_DATE 1994 04 21 *
SOURCE_DEM_DATE 1989 01 01 *
AGENCY "WESTERN MAPPING CENTER (WMC)" *
PRODUCER "ANALYTICAL SURVEYS INC." *
PRODUCTION_SYSTEM "ORBIT OR_RECTIFY V.5.2" *
STANDARD_VERSION 1996 12 *
METADATA_DATE 2000 08 06 *
DATA_FILE_SIZE 50661270 *
BYTE_COUNT 6570 * * * * * * * * * * * * * * * * * * * * * * * * * * * * * * * * * * * * * *
END_USGS_HEADER *
