BEGIN_USGS_DOQ_HEADER *
QUADRANGLE_NAME "TENT HILLS" *
QUADRANT SE *
WEST_LONGITUDE -120 11 15.000 *
EAST_LONGITUDE -120 07 30.000 *
NORTH_LATITUDE 35 48 45.000 *
SOUTH_LATITUDE 35 45 00.000 *
PRODUCTION_DATE 1998 11 18 *
RASTER_ORDER LEFT_RIGHT/TOP_BOTTOM *
BAND_ORGANIZATION "SINGLE FILE" *
BAND_CONTENT BLACK&WHITE *
BITS_PER_PIXEL 8 *
SAMPLES_AND_LINES 6570 7740 *
HORIZONTAL_DATUM NAD83 *
HORIZONTAL_COORDINATE_SYSTEM UTM *
COORDINATE_ZONE 10 *
HORIZONTAL_UNITS METERS *
HORIZONTAL_RESOLUTION 1.000 *
SECONDARY_HORIZONTAL_DATUM NAD27 *
XY_ORIGIN 753720.000 3967290.000 *
SECONDARY_XY_ORIGIN 753814.137 3967096.821 *
NATION US *
STATE CA *
NW_QUAD_CORNER_XY 754115.055 3966803.439 *
NE_QUAD_CORNER_XY 759763.546 3966967.618 *
SE_QUAD_CORNER_XY 759967.174 3960032.925 *
SW_QUAD_CORNER_XY 754314.246 3959868.866 *
SECONDARY_NW_QUAD_XY 754121.062 3966603.581 *
SECONDARY_NE_QUAD_XY 759769.686 3966767.764 *
SECONDARY_SE_QUAD_XY 759973.309 3959833.249 *
SECONDARY_SW_QUAD_XY 754320.248 3959669.186 *
RMSE_XY 2.088 *
IMAGE_SOURCE "BLACK AND WHITE FILM" *
SOURCE_IMAGE_ID "NAPP 6915 142" *
SOURCE_IMAGE_DATE 1994 04 21 *
SOURCE_IMAGE_ID "NAPP 6915 144" *
SOURCE_IMAGE_DATE 1994 04 21 *
SOURCE_DEM_DATE 1989 01 01 *
AGENCY "WESTERN MAPPING CENTER (WMC)" *
PRODUCER "ANALYTICAL SURVEYS INC." *
PRODUCTION_SYSTEM "ORBIT OR_RECTIFY V.5.2" *
STANDARD_VERSION 1996 12 *
METADATA_DATE 2000 08 06 *
DATA_FILE_SIZE 50858370 *
BYTE_COUNT 6570 * * * * * * * * * * * * * * * * * * * * * * * * * * * * * * * * * * * * * *
END_USGS_HEADER *
