BEGIN_USGS_DOQ_HEADER *
QUADRANGLE_NAME "TENT HILLS" *
QUADRANT SW *
WEST_LONGITUDE -120 15 00.000 *
EAST_LONGITUDE -120 11 15.000 *
NORTH_LATITUDE 35 48 45.000 *
SOUTH_LATITUDE 35 45 00.000 *
PRODUCTION_DATE 1998 11 18 *
RASTER_ORDER LEFT_RIGHT/TOP_BOTTOM *
BAND_ORGANIZATION "SINGLE FILE" *
BAND_CONTENT BLACK&WHITE *
BITS_PER_PIXEL 8 *
SAMPLES_AND_LINES 6570 7710 *
HORIZONTAL_DATUM NAD83 *
HORIZONTAL_COORDINATE_SYSTEM UTM *
COORDINATE_ZONE 10 *
HORIZONTAL_UNITS METERS *
HORIZONTAL_RESOLUTION 1.000 *
SECONDARY_HORIZONTAL_DATUM NAD27 *
XY_ORIGIN 748050.000 3967110.000 *
SECONDARY_XY_ORIGIN 748144.204 3966916.653 *
NATION US *
STATE CA *
NW_QUAD_CORNER_XY 748466.661 3966642.877 *
NE_QUAD_CORNER_XY 754115.055 3966803.439 *
SE_QUAD_CORNER_XY 754314.246 3959868.866 *
SW_QUAD_CORNER_XY 748661.415 3959708.421 *
SECONDARY_NW_QUAD_XY 748472.534 3966443.016 *
SECONDARY_NE_QUAD_XY 754121.062 3966603.581 *
SECONDARY_SE_QUAD_XY 754320.248 3959669.186 *
SECONDARY_SW_QUAD_XY 748667.283 3959508.737 *
RMSE_XY 1.888 *
IMAGE_SOURCE "BLACK AND WHITE FILM" *
SOURCE_IMAGE_ID "NAPP 6915 113" *
SOURCE_IMAGE_DATE 1994 04 21 *
SOURCE_DEM_DATE 1989 01 01 *
AGENCY "WESTERN MAPPING CENTER (WMC)" *
PRODUCER "ANALYTICAL SURVEYS INC." *
PRODUCTION_SYSTEM "ORBIT OR_RECTIFY V.5.2" *
STANDARD_VERSION 1996 12 *
METADATA_DATE 1998 11 22 *
DATA_FILE_SIZE 50661270 *
BYTE_COUNT 6570 * * * * * * * * * * * * * * * * * * * * * * * * * * * * * * * * * * * * * * * *
END_USGS_HEADER *
