BEGIN_USGS_DOQ_HEADER *
QUADRANGLE_NAME "CHOLAME VALLEY" *
QUADRANT NW *
NORTH_LATITUDE 35 52 30.000 *
WEST_LONGITUDE -120 22 30.000 *
SOUTH_LATITUDE 35 48 45.000 *
EAST_LONGITUDE -120 18 45.000 *
PRODUCTION_DATE 1998 10 22 *
RASTER_ORDER LEFT_RIGHT/TOP_BOTTOM *
BAND_ORGANIZATION "SINGLE FILE" *
BAND_CONTENT BLACK&WHITE *
BITS_PER_PIXEL 8 *
SAMPLES_AND_LINES 6540 7740 *
HORIZONTAL_DATUM NAD83 *
HORIZONTAL_COORDINATE_SYSTEM UTM *
COORDINATE_ZONE 10 *
HORIZONTAL_UNITS METERS *
HORIZONTAL_RESOLUTION 1.000 *
SECONDARY_HORIZONTAL_DATUM NAD27 *
XY_ORIGIN 736590.000 3973740.000 *
SECONDARY_XY_ORIGIN 736684.420 3973546.399 *
NATION US *
STATE CA *
NW_QUAD_CORNER_XY 736983.986 3973266.889 *
NE_QUAD_CORNER_XY 742627.753 3973420.330 *
SE_QUAD_CORNER_XY 742818.360 3966485.932 *
SW_QUAD_CORNER_XY 737170.151 3966332.602 *
SECONDARY_NW_QUAD_XY 736989.597 3973066.843 *
SECONDARY_NE_QUAD_XY 742633.497 3973220.287 *
SECONDARY_SE_QUAD_XY 742824.100 3966286.066 *
SECONDARY_SW_QUAD_XY 737175.757 3966132.733 *
RMSE_XY 1.557 *
IMAGE_SOURCE "BLACK AND WHITE FILM" *
SOURCE_IMAGE_ID "NAPP 6915 26" *
SOURCE_IMAGE_DATE 1994 04 21 *
SOURCE_DEM_DATE 1989 01 01 *
AGENCY "WESTERN MAPPING CENTER (WMC)" *
PRODUCER "ANALYTICAL SURVEYS INC." *
PRODUCTION_SYSTEM "ORBIT OR_RECTIFY V.5.2" *
STANDARD_VERSION 1996 12 *
METADATA_DATE 1998 10 23 *
DATA_FILE_SIZE 50626140 *
BYTE_COUNT 6540 * * * * * * * * * * * * * * * * * * * * * * * * * * * * * * * * * * * * * * *
END_USGS_HEADER *
