BEGIN_USGS_DOQ_HEADER *
QUADRANGLE_NAME "CHOLAME VALLEY" *
QUADRANT SW *
NORTH_LATITUDE 35 48 45.000 *
WEST_LONGITUDE -120 22 30.000 *
SOUTH_LATITUDE 35 45 00.000 *
EAST_LONGITUDE -120 18 45.000 *
PRODUCTION_DATE 1998 10 22 *
RASTER_ORDER LEFT_RIGHT/TOP_BOTTOM *
BAND_ORGANIZATION "SINGLE FILE" *
BAND_CONTENT BLACK&WHITE *
BITS_PER_PIXEL 8 *
SAMPLES_AND_LINES 6540 7740 *
HORIZONTAL_DATUM NAD83 *
HORIZONTAL_COORDINATE_SYSTEM UTM *
COORDINATE_ZONE 10 *
HORIZONTAL_UNITS METERS *
HORIZONTAL_RESOLUTION 1.000 *
SECONDARY_HORIZONTAL_DATUM NAD27 *
XY_ORIGIN 736770.000 3966810.000 *
SECONDARY_XY_ORIGIN 736864.580 3966616.365 *
NATION US *
STATE CA *
NW_QUAD_CORNER_XY 737170.151 3966332.602 *
NE_QUAD_CORNER_XY 742818.360 3966485.932 *
SE_QUAD_CORNER_XY 743008.678 3959551.590 *
SW_QUAD_CORNER_XY 737356.034 3959398.371 *
SECONDARY_NW_QUAD_XY 737175.757 3966132.733 *
SECONDARY_NE_QUAD_XY 742824.100 3966286.066 *
SECONDARY_SE_QUAD_XY 743014.413 3959351.902 *
SECONDARY_SW_QUAD_XY 737361.635 3959198.680 *
RMSE_XY 1.000 *
IMAGE_SOURCE "BLACK AND WHITE FILM" *
SOURCE_IMAGE_ID "NAPP 6915 28" *
SOURCE_IMAGE_DATE 1994 04 21 *
SOURCE_DEM_DATE 1989 01 01 *
AGENCY "WESTERN MAPPING CENTER (WMC)" *
PRODUCER "ANALYTICAL SURVEYS INC." *
PRODUCTION_SYSTEM "ORBIT OR_RECTIFY V.5.2" *
STANDARD_VERSION 1996 12 *
METADATA_DATE 1998 10 23 *
DATA_FILE_SIZE 50626140 *
BYTE_COUNT 6540 * * * * * * * * * * * * * * * * * * * * * * * * * * * * * * * * * * * * * * *
END_USGS_HEADER *
