BEGIN_USGS_DOQ_HEADER *
QUADRANGLE_NAME "CHOLAME HILLS" *
QUADRANT NE *
NORTH_LATITUDE 35 52 30.000 *
WEST_LONGITUDE -120 26 15.000 *
SOUTH_LATITUDE 35 48 45.000 *
EAST_LONGITUDE -120 22 30.000 *
PRODUCTION_DATE 1998 10 22 *
RASTER_ORDER LEFT_RIGHT/TOP_BOTTOM *
BAND_ORGANIZATION "SINGLE FILE" *
BAND_CONTENT BLACK&WHITE *
BITS_PER_PIXEL 8 *
SAMPLES_AND_LINES 6540 7740 *
HORIZONTAL_DATUM NAD83 *
HORIZONTAL_COORDINATE_SYSTEM UTM *
COORDINATE_ZONE 10 *
HORIZONTAL_UNITS METERS *
HORIZONTAL_RESOLUTION 1.000 *
SECONDARY_HORIZONTAL_DATUM NAD27 *
XY_ORIGIN 730950.000 3973590.000 *
SECONDARY_XY_ORIGIN 731044.606 3973396.255 *
NATION US *
STATE CA *
NW_QUAD_CORNER_XY 731340.308 3973117.066 *
NE_QUAD_CORNER_XY 736983.986 3973266.889 *
SE_QUAD_CORNER_XY 737170.151 3966332.602 *
SW_QUAD_CORNER_XY 731522.032 3966182.887 *
SECONDARY_NW_QUAD_XY 731345.785 3972917.016 *
SECONDARY_NE_QUAD_XY 736989.597 3973066.843 *
SECONDARY_SE_QUAD_XY 737175.757 3966132.733 *
SECONDARY_SW_QUAD_XY 731527.504 3965983.014 *
RMSE_XY 1.429 *
IMAGE_SOURCE "BLACK AND WHITE FILM" *
SOURCE_IMAGE_ID "NAPP 6916 80" *
SOURCE_IMAGE_DATE 1994 05 02 *
SOURCE_DEM_DATE 1989 01 01 *
AGENCY "WESTERN MAPPING CENTER (WMC)" *
PRODUCER "ANALYTICAL SURVEYS INC." *
PRODUCTION_SYSTEM "ORBIT OR_RECTIFY V.5.2" *
STANDARD_VERSION 1996 12 *
METADATA_DATE 1998 10 23 *
DATA_FILE_SIZE 50626140 *
BYTE_COUNT 6540 * * * * * * * * * * * * * * * * * * * * * * * * * * * * * * * * * * * * * * *
END_USGS_HEADER *
