BEGIN_USGS_DOQ_HEADER *
QUADRANGLE_NAME "RANCHITO CANYON" *
QUADRANT NE *
NORTH_LATITUDE 35 52 30.000 *
WEST_LONGITUDE -120 33 45.000 *
SOUTH_LATITUDE 35 48 45.000 *
EAST_LONGITUDE -120 30 00.000 *
PRODUCTION_DATE 1998 10 22 *
RASTER_ORDER LEFT_RIGHT/TOP_BOTTOM *
BAND_ORGANIZATION "SINGLE FILE" *
BAND_CONTENT BLACK&WHITE *
BITS_PER_PIXEL 8 *
SAMPLES_AND_LINES 6540 7710 *
HORIZONTAL_DATUM NAD83 *
HORIZONTAL_COORDINATE_SYSTEM UTM *
COORDINATE_ZONE 10 *
HORIZONTAL_UNITS METERS *
HORIZONTAL_RESOLUTION 1.000 *
SECONDARY_HORIZONTAL_DATUM NAD27 *
XY_ORIGIN 719640.000 3973290.000 *
SECONDARY_XY_ORIGIN 719734.999 3973096.056 *
NATION US *
STATE CA *
NW_QUAD_CORNER_XY 720053.211 3972828.271 *
NE_QUAD_CORNER_XY 725696.717 3972970.860 *
SE_QUAD_CORNER_XY 725874.000 3966036.787 *
SW_QUAD_CORNER_XY 720226.054 3965894.301 *
SECONDARY_NW_QUAD_XY 720058.420 3972628.214 *
SECONDARY_NE_QUAD_XY 725702.060 3972770.807 *
SECONDARY_SE_QUAD_XY 725879.339 3965836.911 *
SECONDARY_SW_QUAD_XY 720231.259 3965694.421 *
RMSE_XY 2.519 *
IMAGE_SOURCE "BLACK AND WHITE FILM" *
SOURCE_IMAGE_ID "NAPP 6923 225" *
SOURCE_IMAGE_DATE 1994 05 28 *
SOURCE_DEM_DATE 1998 01 01 *
AGENCY "WESTERN MAPPING CENTER (WMC)" *
PRODUCER "ANALYTICAL SURVEYS INC." *
PRODUCTION_SYSTEM "ORBIT OR_RECTIFY V.5.2" *
STANDARD_VERSION 1996 12 *
METADATA_DATE 1998 10 23 *
DATA_FILE_SIZE 50429940 *
BYTE_COUNT 6540 * * * * * * * * * * * * * * * * * * * * * * * * * * * * * * * * * * * * * * *
END_USGS_HEADER *
