BEGIN_USGS_DOQ_HEADER *
QUADRANGLE_NAME "RANCHITO CANYON" *
QUADRANT SE *
NORTH_LATITUDE 35 48 45.000 *
WEST_LONGITUDE -120 33 45.000 *
SOUTH_LATITUDE 35 45 00.000 *
EAST_LONGITUDE -120 30 00.000 *
PRODUCTION_DATE 1998 10 22 *
RASTER_ORDER LEFT_RIGHT/TOP_BOTTOM *
BAND_ORGANIZATION "SINGLE FILE" *
BAND_CONTENT BLACK&WHITE *
BITS_PER_PIXEL 8 *
SAMPLES_AND_LINES 6540 7710 *
HORIZONTAL_DATUM NAD83 *
HORIZONTAL_COORDINATE_SYSTEM UTM *
COORDINATE_ZONE 10 *
HORIZONTAL_UNITS METERS *
HORIZONTAL_RESOLUTION 1.000 *
SECONDARY_HORIZONTAL_DATUM NAD27 *
XY_ORIGIN 719820.000 3966360.000 *
SECONDARY_XY_ORIGIN 719915.148 3966166.044 *
NATION US *
STATE CA *
NW_QUAD_CORNER_XY 720226.054 3965894.301 *
NE_QUAD_CORNER_XY 725874.000 3966036.787 *
SE_QUAD_CORNER_XY 726051.014 3959102.772 *
SW_QUAD_CORNER_XY 720398.634 3958960.390 *
SECONDARY_NW_QUAD_XY 720231.259 3965694.421 *
SECONDARY_NE_QUAD_XY 725879.339 3965836.911 *
SECONDARY_SE_QUAD_XY 726056.349 3958903.074 *
SECONDARY_SW_QUAD_XY 720403.835 3958760.689 *
RMSE_XY 2.460 *
IMAGE_SOURCE "BLACK AND WHITE FILM" *
SOURCE_IMAGE_ID "NAPP 6923 227" *
SOURCE_IMAGE_DATE 1994 05 28 *
SOURCE_IMAGE_ID "NAPP 6916 31" *
SOURCE_IMAGE_DATE 1994 05 02 *
SOURCE_DEM_DATE 1998 01 01 *
AGENCY "WESTERN MAPPING CENTER (WMC)" *
PRODUCER "ANALYTICAL SURVEYS INC." *
PRODUCTION_SYSTEM "ORBIT OR_RECTIFY V.5.2" *
STANDARD_VERSION 1996 12 *
METADATA_DATE 1998 10 23 *
DATA_FILE_SIZE 50429940 *
BYTE_COUNT 6540 * * * * * * * * * * * * * * * * * * * * * * * * * * * * * * * * * * * * *
END_USGS_HEADER *
