BEGIN_USGS_DOQ_HEADER *
QUADRANGLE_NAME "SAN MIGUEL" *
QUADRANT NE *
NORTH_LATITUDE 35 52 30.000 *
WEST_LONGITUDE -120 41 15.000 *
SOUTH_LATITUDE 35 48 45.000 *
EAST_LONGITUDE -120 37 30.000 *
PRODUCTION_DATE 1998 11 06 *
RASTER_ORDER LEFT_RIGHT/TOP_BOTTOM *
BAND_ORGANIZATION "SINGLE FILE" *
BAND_CONTENT BLACK&WHITE *
BITS_PER_PIXEL 8 *
SAMPLES_AND_LINES 6540 7680 *
HORIZONTAL_DATUM NAD83 *
HORIZONTAL_COORDINATE_SYSTEM UTM *
COORDINATE_ZONE 10 *
HORIZONTAL_UNITS METERS *
HORIZONTAL_RESOLUTION 1.000 *
SECONDARY_HORIZONTAL_DATUM NAD27 *
XY_ORIGIN 708360.000 3972990.000 *
SECONDARY_XY_ORIGIN 708455.418 3972795.926 *
NATION US *
STATE CA *
NW_QUAD_CORNER_XY 708766.444 3972553.941 *
NE_QUAD_CORNER_XY 714409.787 3972689.298 *
SE_QUAD_CORNER_XY 714578.190 3965755.429 *
SW_QUAD_CORNER_XY 708930.408 3965620.169 *
SECONDARY_NW_QUAD_XY 708771.386 3972353.878 *
SECONDARY_NE_QUAD_XY 714414.863 3972489.238 *
SECONDARY_SE_QUAD_XY 714583.262 3965555.546 *
SECONDARY_SW_QUAD_XY 708935.346 3965420.283 *
RMSE_XY 3.326 *
IMAGE_SOURCE "BLACK AND WHITE FILM" *
SOURCE_IMAGE_ID "NAPP 6921 10" *
SOURCE_IMAGE_DATE 1994 09 03 *
SOURCE_IMAGE_ID "NAPP 6921 12" *
SOURCE_IMAGE_DATE 1994 09 03 *
SOURCE_IMAGE_ID "NAPP 6928 7" *
SOURCE_IMAGE_DATE 1994 09 15 *
SOURCE_DEM_DATE 1998 01 01 *
AGENCY "WESTERN MAPPING CENTER (WMC)" *
PRODUCER "ANALYTICAL SURVEYS INC." *
PRODUCTION_SYSTEM "ORBIT OR_RECTIFY V.5.2" *
STANDARD_VERSION 1996 12 *
METADATA_DATE 1998 11 09 *
DATA_FILE_SIZE 50233740 *
BYTE_COUNT 6540 * * * * * * * * * * * * * * * * * * * * * * * * * * * * * * * * * * *
END_USGS_HEADER *
