BEGIN_USGS_DOQ_HEADER *
QUADRANGLE_NAME "SAN MIGUEL" *
QUADRANT NW *
NORTH_LATITUDE 35 52 30.000 *
WEST_LONGITUDE -120 45 00.000 *
SOUTH_LATITUDE 35 48 45.000 *
EAST_LONGITUDE -120 41 15.000 *
PRODUCTION_DATE 1998 11 06 *
RASTER_ORDER LEFT_RIGHT/TOP_BOTTOM *
BAND_ORGANIZATION "SINGLE FILE" *
BAND_CONTENT BLACK&WHITE *
BITS_PER_PIXEL 8 *
SAMPLES_AND_LINES 6540 7710 *
HORIZONTAL_DATUM NAD83 *
HORIZONTAL_COORDINATE_SYSTEM UTM *
COORDINATE_ZONE 10 *
HORIZONTAL_UNITS METERS *
HORIZONTAL_RESOLUTION 1.000 *
SECONDARY_HORIZONTAL_DATUM NAD27 *
XY_ORIGIN 702720.000 3972870.000 *
SECONDARY_XY_ORIGIN 702815.627 3972675.861 *
NATION US *
STATE CA *
NW_QUAD_CORNER_XY 703123.179 3972422.199 *
NE_QUAD_CORNER_XY 708766.444 3972553.941 *
SE_QUAD_CORNER_XY 708930.408 3965620.169 *
SW_QUAD_CORNER_XY 703282.705 3965488.523 *
SECONDARY_NW_QUAD_XY 703127.987 3972222.133 *
SECONDARY_NE_QUAD_XY 708771.386 3972353.878 *
SECONDARY_SE_QUAD_XY 708935.346 3965420.283 *
SECONDARY_SW_QUAD_XY 703287.510 3965288.634 *
RMSE_XY 2.166 *
IMAGE_SOURCE "BLACK AND WHITE FILM" *
SOURCE_IMAGE_ID "NAPP 6928 14" *
SOURCE_IMAGE_DATE 1994 09 15 *
SOURCE_IMAGE_ID "NAPP 6920 249" *
SOURCE_IMAGE_DATE 1994 05 13 *
SOURCE_IMAGE_ID "NAPP 6921 10" *
SOURCE_IMAGE_DATE 1994 09 03 *
SOURCE_IMAGE_ID "NAPP 6928 12" *
SOURCE_IMAGE_DATE 1994 09 15 *
SOURCE_IMAGE_ID "NAPP 6928 16" *
SOURCE_IMAGE_DATE 1994 09 15 *
SOURCE_DEM_DATE 1998 01 01 *
AGENCY "WESTERN MAPPING CENTER (WMC)" *
PRODUCER "ANALYTICAL SURVEYS INC." *
PRODUCTION_SYSTEM "ORBIT OR_RECTIFY V.5.2" *
STANDARD_VERSION 1996 12 *
METADATA_DATE 1998 11 09 *
DATA_FILE_SIZE 50429940 *
BYTE_COUNT 6540 * * * * * * * * * * * * * * * * * * * * * * * * * * * * * * *
END_USGS_HEADER *
