BEGIN_USGS_DOQ_HEADER *
QUADRANGLE_NAME "SAN MIGUEL" *
QUADRANT SW *
NORTH_LATITUDE 35 48 45.000 *
WEST_LONGITUDE -120 45 00.000 *
SOUTH_LATITUDE 35 45 00.000 *
EAST_LONGITUDE -120 41 15.000 *
PRODUCTION_DATE 1998 11 06 *
RASTER_ORDER LEFT_RIGHT/TOP_BOTTOM *
BAND_ORGANIZATION "SINGLE FILE" *
BAND_CONTENT BLACK&WHITE *
BITS_PER_PIXEL 8 *
SAMPLES_AND_LINES 6540 7710 *
HORIZONTAL_DATUM NAD83 *
HORIZONTAL_COORDINATE_SYSTEM UTM *
COORDINATE_ZONE 10 *
HORIZONTAL_UNITS METERS *
HORIZONTAL_RESOLUTION 1.000 *
SECONDARY_HORIZONTAL_DATUM NAD27 *
XY_ORIGIN 702870.000 3965940.000 *
SECONDARY_XY_ORIGIN 702965.747 3965745.915 *
NATION US *
STATE CA *
NW_QUAD_CORNER_XY 703282.705 3965488.523 *
NE_QUAD_CORNER_XY 708930.408 3965620.169 *
SE_QUAD_CORNER_XY 709094.124 3958686.458 *
SW_QUAD_CORNER_XY 703441.989 3958554.907 *
SECONDARY_NW_QUAD_XY 703287.510 3965288.634 *
SECONDARY_NE_QUAD_XY 708935.346 3965420.283 *
SECONDARY_SE_QUAD_XY 709099.058 3958486.750 *
SECONDARY_SW_QUAD_XY 703446.790 3958355.196 *
RMSE_XY 2.905 *
IMAGE_SOURCE "BLACK AND WHITE FILM" *
SOURCE_IMAGE_ID "NAPP 6928 16" *
SOURCE_IMAGE_DATE 1994 09 15 *
SOURCE_DEM_DATE 1998 01 01 *
AGENCY "WESTERN MAPPING CENTER (WMC)" *
PRODUCER "ANALYTICAL SURVEYS INC." *
PRODUCTION_SYSTEM "ORBIT OR_RECTIFY V.5.2" *
STANDARD_VERSION 1996 12 *
METADATA_DATE 1998 11 09 *
DATA_FILE_SIZE 50429940 *
BYTE_COUNT 6540 * * * * * * * * * * * * * * * * * * * * * * * * * * * * * * * * * * * * * * *
END_USGS_HEADER *
