BEGIN_USGS_DOQ_HEADER *
QUADRANGLE_NAME "BRADLEY" *
QUADRANT NW *
NORTH_LATITUDE 35 52 30.000 *
WEST_LONGITUDE -120 52 30.000 *
SOUTH_LATITUDE 35 48 45.000 *
EAST_LONGITUDE -120 48 45.000 *
PRODUCTION_DATE 1998 11 06 *
RASTER_ORDER LEFT_RIGHT/TOP_BOTTOM *
BAND_ORGANIZATION "SINGLE FILE" *
BAND_CONTENT BLACK&WHITE *
BITS_PER_PIXEL 8 *
SAMPLES_AND_LINES 6510 7680 *
HORIZONTAL_DATUM NAD83 *
HORIZONTAL_COORDINATE_SYSTEM UTM *
COORDINATE_ZONE 10 *
HORIZONTAL_UNITS METERS *
HORIZONTAL_RESOLUTION 1.000 *
SECONDARY_HORIZONTAL_DATUM NAD27 *
XY_ORIGIN 691440.000 3972600.000 *
SECONDARY_XY_ORIGIN 691536.045 3972405.632 *
NATION US *
STATE CA *
NW_QUAD_CORNER_XY 691836.876 3972169.559 *
NE_QUAD_CORNER_XY 697479.990 3972294.072 *
SE_QUAD_CORNER_XY 697635.079 3965360.488 *
SW_QUAD_CORNER_XY 691987.527 3965236.066 *
SECONDARY_NW_QUAD_XY 691841.417 3971969.487 *
SECONDARY_NE_QUAD_XY 697484.665 3972094.003 *
SECONDARY_SE_QUAD_XY 697639.750 3965160.596 *
SECONDARY_SW_QUAD_XY 691992.065 3965036.171 *
RMSE_XY 1.940 *
IMAGE_SOURCE "BLACK AND WHITE FILM" *
SOURCE_IMAGE_ID "NAPP 6923 207" *
SOURCE_IMAGE_DATE 1994 05 28 *
SOURCE_IMAGE_ID "NAPP 6920 249" *
SOURCE_IMAGE_DATE 1994 05 13 *
SOURCE_IMAGE_ID "NAPP 6923 209" *
SOURCE_IMAGE_DATE 1994 05 28 *
SOURCE_IMAGE_ID "NAPP 6923 205" *
SOURCE_IMAGE_DATE 1994 05 28 *
SOURCE_DEM_DATE 1998 01 01 *
AGENCY "WESTERN MAPPING CENTER (WMC)" *
PRODUCER "ANALYTICAL SURVEYS INC." *
PRODUCTION_SYSTEM "ORBIT OR_RECTIFY V.5.2" *
STANDARD_VERSION 1996 12 *
METADATA_DATE 1998 11 09 *
DATA_FILE_SIZE 50003310 *
BYTE_COUNT 6510 * * * * * * * * * * * * * * * * * * * * * * * * * * * * * * * * *
END_USGS_HEADER *
