BEGIN_USGS_DOQ_HEADER *
QUADRANGLE_NAME "BRADLEY" *
QUADRANT SW *
NORTH_LATITUDE 35 48 45.000 *
WEST_LONGITUDE -120 52 30.000 *
SOUTH_LATITUDE 35 45 00.000 *
EAST_LONGITUDE -120 48 45.000 *
PRODUCTION_DATE 1998 11 06 *
RASTER_ORDER LEFT_RIGHT/TOP_BOTTOM *
BAND_ORGANIZATION "SINGLE FILE" *
BAND_CONTENT BLACK&WHITE *
BITS_PER_PIXEL 8 *
SAMPLES_AND_LINES 6510 7680 *
HORIZONTAL_DATUM NAD83 *
HORIZONTAL_COORDINATE_SYSTEM UTM *
COORDINATE_ZONE 10 *
HORIZONTAL_UNITS METERS *
HORIZONTAL_RESOLUTION 1.000 *
SECONDARY_HORIZONTAL_DATUM NAD27 *
XY_ORIGIN 691590.000 3965670.000 *
SECONDARY_XY_ORIGIN 691686.135 3965475.717 *
NATION US *
STATE CA *
NW_QUAD_CORNER_XY 691987.527 3965236.066 *
NE_QUAD_CORNER_XY 697635.079 3965360.488 *
SE_QUAD_CORNER_XY 697789.932 3958426.966 *
SW_QUAD_CORNER_XY 692137.950 3958302.634 *
SECONDARY_NW_QUAD_XY 691992.065 3965036.171 *
SECONDARY_NE_QUAD_XY 697639.750 3965160.596 *
SECONDARY_SE_QUAD_XY 697794.599 3958227.252 *
SECONDARY_SW_QUAD_XY 692142.483 3958102.918 *
RMSE_XY 3.024 *
IMAGE_SOURCE "BLACK AND WHITE FILM" *
SOURCE_IMAGE_ID "NAPP 6923 205" *
SOURCE_IMAGE_DATE 1994 05 28 *
SOURCE_IMAGE_ID "NAPP 6920 203" *
SOURCE_IMAGE_DATE 1994 05 28 *
SOURCE_DEM_DATE 1998 01 01 *
AGENCY "WESTERN MAPPING CENTER (WMC)" *
PRODUCER "ANALYTICAL SURVEYS INC." *
PRODUCTION_SYSTEM "ORBIT OR_RECTIFY V.5.2" *
STANDARD_VERSION 1996 12 *
METADATA_DATE 1998 11 09 *
DATA_FILE_SIZE 50003310 *
BYTE_COUNT 6510 * * * * * * * * * * * * * * * * * * * * * * * * * * * * * * * * * * * * *
END_USGS_HEADER *
