BEGIN_USGS_DOQ_HEADER *
QUADRANGLE_NAME "TIERRA REDONDA MOUNTAIN" *
QUADRANT NE *
NORTH_LATITUDE 35 52 30.000 *
WEST_LONGITUDE -120 56 15.000 *
SOUTH_LATITUDE 35 48 45.000 *
EAST_LONGITUDE -120 52 30.000 *
PRODUCTION_DATE 1998 11 06 *
RASTER_ORDER LEFT_RIGHT/TOP_BOTTOM *
BAND_ORGANIZATION "SINGLE FILE" *
BAND_CONTENT BLACK&WHITE *
BITS_PER_PIXEL 8 *
SAMPLES_AND_LINES 6510 7680 *
HORIZONTAL_DATUM NAD83 *
HORIZONTAL_COORDINATE_SYSTEM UTM *
COORDINATE_ZONE 10 *
HORIZONTAL_UNITS METERS *
HORIZONTAL_RESOLUTION 1.000 *
SECONDARY_HORIZONTAL_DATUM NAD27 *
XY_ORIGIN 685800.000 3972480.000 *
SECONDARY_XY_ORIGIN 685896.255 3972285.520 *
NATION US *
STATE CA *
NW_QUAD_CORNER_XY 686193.833 3972048.661 *
NE_QUAD_CORNER_XY 691836.876 3972169.559 *
SE_QUAD_CORNER_XY 691987.527 3965236.066 *
SW_QUAD_CORNER_XY 686340.048 3965115.254 *
SECONDARY_NW_QUAD_XY 686198.241 3971848.585 *
SECONDARY_NE_QUAD_XY 691841.417 3971969.487 *
SECONDARY_SE_QUAD_XY 691992.065 3965036.171 *
SECONDARY_SW_QUAD_XY 686344.452 3964915.356 *
RMSE_XY 2.329 *
IMAGE_SOURCE "BLACK AND WHITE FILM" *
SOURCE_IMAGE_ID "NAPP 6917 125" *
SOURCE_IMAGE_DATE 1994 05 10 *
SOURCE_IMAGE_ID "NAPP 6923 207" *
SOURCE_IMAGE_DATE 1994 05 28 *
SOURCE_DEM_DATE 1976 01 01 *
AGENCY "WESTERN MAPPING CENTER (WMC)" *
PRODUCER "ANALYTICAL SURVEYS INC." *
PRODUCTION_SYSTEM "ORBIT OR_RECTIFY V.5.2" *
STANDARD_VERSION 1996 12 *
METADATA_DATE 1998 11 09 *
DATA_FILE_SIZE 50003310 *
BYTE_COUNT 6510 * * * * * * * * * * * * * * * * * * * * * * * * * * * * * * * * * * * * *
END_USGS_HEADER *
