BEGIN_USGS_DOQ_HEADER *
QUADRANGLE_NAME "TIERRA REDONDA MOUNTAIN" *
QUADRANT NW *
NORTH_LATITUDE 35 52 30.000 *
WEST_LONGITUDE -121 00 00.000 *
SOUTH_LATITUDE 35 48 45.000 *
EAST_LONGITUDE -120 56 15.000 *
PRODUCTION_DATE 1998 11 06 *
RASTER_ORDER LEFT_RIGHT/TOP_BOTTOM *
BAND_ORGANIZATION "SINGLE FILE" *
BAND_CONTENT BLACK&WHITE *
BITS_PER_PIXEL 8 *
SAMPLES_AND_LINES 6540 7680 *
HORIZONTAL_DATUM NAD83 *
HORIZONTAL_COORDINATE_SYSTEM UTM *
COORDINATE_ZONE 10 *
HORIZONTAL_UNITS METERS *
HORIZONTAL_RESOLUTION 1.000 *
SECONDARY_HORIZONTAL_DATUM NAD27 *
XY_ORIGIN 680130.000 3972360.000 *
SECONDARY_XY_ORIGIN 680226.465 3972165.406 *
NATION US *
STATE CA *
NW_QUAD_CORNER_XY 680550.861 3971931.375 *
NE_QUAD_CORNER_XY 686193.833 3972048.661 *
SE_QUAD_CORNER_XY 686340.048 3965115.254 *
SW_QUAD_CORNER_XY 680692.640 3964998.054 *
SECONDARY_NW_QUAD_XY 680555.135 3971731.297 *
SECONDARY_NE_QUAD_XY 686198.241 3971848.585 *
SECONDARY_SE_QUAD_XY 686344.452 3964915.356 *
SECONDARY_SW_QUAD_XY 680696.910 3964798.153 *
RMSE_XY 2.316 *
IMAGE_SOURCE "BLACK AND WHITE FILM" *
SOURCE_IMAGE_ID "NAPP 6917 148" *
SOURCE_IMAGE_DATE 1994 05 10 *
SOURCE_DEM_DATE 1976 01 01 *
AGENCY "WESTERN MAPPING CENTER (WMC)" *
PRODUCER "ANALYTICAL SURVEYS INC." *
PRODUCTION_SYSTEM "ORBIT OR_RECTIFY V.5.2" *
STANDARD_VERSION 1996 12 *
METADATA_DATE 1998 11 09 *
DATA_FILE_SIZE 50233740 *
BYTE_COUNT 6540 * * * * * * * * * * * * * * * * * * * * * * * * * * * * * * * * * * * * * * *
END_USGS_HEADER *
