BEGIN_USGS_DOQ_HEADER *
QUADRANGLE_NAME "TIERRA REDONDA MOUNTAIN" *
QUADRANT SE *
NORTH_LATITUDE 35 48 45.000 *
WEST_LONGITUDE -120 56 15.000 *
SOUTH_LATITUDE 35 45 00.000 *
EAST_LONGITUDE -120 52 30.000 *
PRODUCTION_DATE 1998 11 06 *
RASTER_ORDER LEFT_RIGHT/TOP_BOTTOM *
BAND_ORGANIZATION "SINGLE FILE" *
BAND_CONTENT BLACK&WHITE *
BITS_PER_PIXEL 8 *
SAMPLES_AND_LINES 6540 7680 *
HORIZONTAL_DATUM NAD83 *
HORIZONTAL_COORDINATE_SYSTEM UTM *
COORDINATE_ZONE 10 *
HORIZONTAL_UNITS METERS *
HORIZONTAL_RESOLUTION 1.000 *
SECONDARY_HORIZONTAL_DATUM NAD27 *
XY_ORIGIN 685920.000 3965550.000 *
SECONDARY_XY_ORIGIN 686016.331 3965355.619 *
NATION US *
STATE CA *
NW_QUAD_CORNER_XY 686340.048 3965115.254 *
NE_QUAD_CORNER_XY 691987.527 3965236.066 *
SE_QUAD_CORNER_XY 692137.950 3958302.634 *
SW_QUAD_CORNER_XY 686486.041 3958181.911 *
SECONDARY_NW_QUAD_XY 686344.452 3964915.356 *
SECONDARY_NE_QUAD_XY 691992.065 3965036.171 *
SECONDARY_SE_QUAD_XY 692142.483 3958102.918 *
SECONDARY_SW_QUAD_XY 686490.441 3957982.191 *
RMSE_XY 1.641 *
IMAGE_SOURCE "BLACK AND WHITE FILM" *
SOURCE_IMAGE_ID "NAPP 6917 127" *
SOURCE_IMAGE_DATE 1994 05 10 *
SOURCE_IMAGE_ID "NAPP 6923 205" *
SOURCE_IMAGE_DATE 1994 05 28 *
SOURCE_IMAGE_ID "NAPP 6917 129" *
SOURCE_IMAGE_DATE 1994 05 10 *
SOURCE_DEM_DATE 1976 01 01 *
AGENCY "WESTERN MAPPING CENTER (WMC)" *
PRODUCER "ANALYTICAL SURVEYS INC." *
PRODUCTION_SYSTEM "ORBIT OR_RECTIFY V.5.2" *
STANDARD_VERSION 1996 12 *
METADATA_DATE 1998 11 09 *
DATA_FILE_SIZE 50233740 *
BYTE_COUNT 6540 * * * * * * * * * * * * * * * * * * * * * * * * * * * * * * * * * * *
END_USGS_HEADER *
