BEGIN_USGS_DOQ_HEADER *
QUADRANGLE_NAME "TIERRA REDONDA MOUNTAIN" *
QUADRANT SW *
NORTH_LATITUDE 35 48 45.000 *
WEST_LONGITUDE -121 00 00.000 *
SOUTH_LATITUDE 35 45 00.000 *
EAST_LONGITUDE -120 56 15.000 *
PRODUCTION_DATE 1998 11 06 *
RASTER_ORDER LEFT_RIGHT/TOP_BOTTOM *
BAND_ORGANIZATION "SINGLE FILE" *
BAND_CONTENT BLACK&WHITE *
BITS_PER_PIXEL 8 *
SAMPLES_AND_LINES 6510 7680 *
HORIZONTAL_DATUM NAD83 *
HORIZONTAL_COORDINATE_SYSTEM UTM *
COORDINATE_ZONE 10 *
HORIZONTAL_UNITS METERS *
HORIZONTAL_RESOLUTION 1.000 *
SECONDARY_HORIZONTAL_DATUM NAD27 *
XY_ORIGIN 680280.000 3965430.000 *
SECONDARY_XY_ORIGIN 680376.526 3965235.522 *
NATION US *
STATE CA *
NW_QUAD_CORNER_XY 680692.640 3964998.054 *
NE_QUAD_CORNER_XY 686340.048 3965115.254 *
SE_QUAD_CORNER_XY 686486.041 3958181.911 *
SW_QUAD_CORNER_XY 680834.203 3958064.796 *
SECONDARY_NW_QUAD_XY 680696.910 3964798.153 *
SECONDARY_NE_QUAD_XY 686344.452 3964915.356 *
SECONDARY_SE_QUAD_XY 686490.441 3957982.191 *
SECONDARY_SW_QUAD_XY 680838.469 3957865.074 *
RMSE_XY 2.528 *
IMAGE_SOURCE "BLACK AND WHITE FILM" *
SOURCE_IMAGE_ID "NAPP 6917 146" *
SOURCE_IMAGE_DATE 1994 05 10 *
SOURCE_IMAGE_ID "NAPP 6917 144" *
SOURCE_IMAGE_DATE 1994 05 10 *
SOURCE_IMAGE_ID "NAPP 6917 127" *
SOURCE_IMAGE_DATE 1994 05 28 *
SOURCE_DEM_DATE 1976 01 01 *
AGENCY "WESTERN MAPPING CENTER (WMC)" *
PRODUCER "ANALYTICAL SURVEYS INC." *
PRODUCTION_SYSTEM "ORBIT OR_RECTIFY V.5.2" *
STANDARD_VERSION 1996 12 *
METADATA_DATE 1998 11 09 *
DATA_FILE_SIZE 50003310 *
BYTE_COUNT 6510 * * * * * * * * * * * * * * * * * * * * * * * * * * * * * * * * * * *
END_USGS_HEADER *
