BEGIN_USGS_DOQ_HEADER *
QUADRANGLE_NAME "KETTLEMAN PLAIN" *
QUADRANT NW *
WEST_LONGITUDE -120 07 30.000 *
EAST_LONGITUDE -120 03 45.000 *
NORTH_LATITUDE 36 00 00.000 *
SOUTH_LATITUDE 35 56 15.000 *
PRODUCTION_DATE 1998 11 04 *
RASTER_ORDER LEFT_RIGHT/TOP_BOTTOM *
BAND_ORGANIZATION "SINGLE FILE" *
BAND_CONTENT BLACK&WHITE *
BITS_PER_PIXEL 8 *
SAMPLES_AND_LINES 6540 7740 *
HORIZONTAL_DATUM NAD83 *
HORIZONTAL_COORDINATE_SYSTEM UTM *
COORDINATE_ZONE 10 *
HORIZONTAL_UNITS METERS *
HORIZONTAL_RESOLUTION 1.000 *
SECONDARY_HORIZONTAL_DATUM NAD27 *
XY_ORIGIN 758760.000 3988260.000 *
SECONDARY_XY_ORIGIN 758853.594 3988067.122 *
NATION US *
STATE CA *
NW_QUAD_CORNER_XY 759150.804 3987772.021 *
NE_QUAD_CORNER_XY 764786.038 3987940.179 *
SE_QUAD_CORNER_XY 764995.053 3981005.204 *
SW_QUAD_CORNER_XY 759355.361 3980837.166 *
SECONDARY_NW_QUAD_XY 759156.961 3987571.637 *
SECONDARY_NE_QUAD_XY 764792.329 3987739.799 *
SECONDARY_SE_QUAD_XY 765001.338 3980805.000 *
SECONDARY_SW_QUAD_XY 759361.512 3980636.958 *
RMSE_XY 1.126 *
IMAGE_SOURCE "BLACK AND WHITE FILM" *
SOURCE_IMAGE_ID "NAPP 6915 182" *
SOURCE_IMAGE_DATE 1994 04 21 *
SOURCE_DEM_DATE 1994 01 01 *
AGENCY "WESTERN MAPPING CENTER (WMC)" *
PRODUCER "ANALYTICAL SURVEYS INC." *
PRODUCTION_SYSTEM "ORBIT OR_RECTIFY V.5.2" *
STANDARD_VERSION 1996 12 *
METADATA_DATE 1998 11 07 *
DATA_FILE_SIZE 50626140 *
BYTE_COUNT 6540 * * * * * * * * * * * * * * * * * * * * * * * * * * * * * * * * * * * * * * *
END_USGS_HEADER *
