BEGIN_USGS_DOQ_HEADER *
QUADRANGLE_NAME "KETTLEMAN PLAIN" *
QUADRANT SE *
WEST_LONGITUDE -120 03 45.000 *
EAST_LONGITUDE -120 00 00.000 *
NORTH_LATITUDE 35 56 15.000 *
SOUTH_LATITUDE 35 52 30.000 *
PRODUCTION_DATE 2000 08 03 *
RASTER_ORDER LEFT_RIGHT/TOP_BOTTOM *
BAND_ORGANIZATION "SINGLE FILE" *
BAND_CONTENT BLACK&WHITE *
BITS_PER_PIXEL 8 *
SAMPLES_AND_LINES 6570 7740 *
HORIZONTAL_DATUM NAD83 *
HORIZONTAL_COORDINATE_SYSTEM UTM *
COORDINATE_ZONE 10 *
HORIZONTAL_UNITS METERS *
HORIZONTAL_RESOLUTION 1.000 *
SECONDARY_HORIZONTAL_DATUM NAD27 *
XY_ORIGIN 764580.000 3981480.000 *
SECONDARY_XY_ORIGIN 764673.688 3981287.252 *
NATION US *
STATE CA *
NW_QUAD_CORNER_XY 764995.053 3981005.204 *
NE_QUAD_CORNER_XY 770634.844 3981176.865 *
SE_QUAD_CORNER_XY 770847.995 3974241.821 *
SW_QUAD_CORNER_XY 765203.752 3974070.282 *
SECONDARY_NW_QUAD_XY 765001.338 3980805.000 *
SECONDARY_NE_QUAD_XY 770641.263 3980976.665 *
SECONDARY_SE_QUAD_XY 770854.408 3974041.797 *
SECONDARY_SW_QUAD_XY 765210.031 3973870.255 *
RMSE_XY 0.870 *
IMAGE_SOURCE "BLACK AND WHITE FILM" *
SOURCE_IMAGE_ID "NAPP 6915 217" *
SOURCE_IMAGE_DATE 1994 04 21 *
SOURCE_DEM_DATE 1994 01 01 *
AGENCY "WESTERN MAPPING CENTER (WMC)" *
PRODUCER "ANALYTICAL SURVEYS INC." *
PRODUCTION_SYSTEM "ORBIT OR_RECTIFY V.5.2" *
STANDARD_VERSION 1996 12 *
METADATA_DATE 2000 08 09 *
DATA_FILE_SIZE 50858370 *
BYTE_COUNT 6570 * * * * * * * * * * * * * * * * * * * * * * * * * * * * * * * * * * * * * * * *
END_USGS_HEADER *
