BEGIN_USGS_DOQ_HEADER *
QUADRANGLE_NAME "GARZA PEAK" *
QUADRANT NW *
WEST_LONGITUDE -120 15 00.000 *
EAST_LONGITUDE -120 11 15.000 *
NORTH_LATITUDE 36 00 00.000 *
SOUTH_LATITUDE 35 56 15.000 *
PRODUCTION_DATE 1998 11 18 *
RASTER_ORDER LEFT_RIGHT/TOP_BOTTOM *
BAND_ORGANIZATION "SINGLE FILE" *
BAND_CONTENT BLACK&WHITE *
BITS_PER_PIXEL 8 *
SAMPLES_AND_LINES 6540 7740 *
HORIZONTAL_DATUM NAD83 *
HORIZONTAL_COORDINATE_SYSTEM UTM *
COORDINATE_ZONE 10 *
HORIZONTAL_UNITS METERS *
HORIZONTAL_RESOLUTION 1.000 *
SECONDARY_HORIZONTAL_DATUM NAD27 *
XY_ORIGIN 747480.000 3987930.000 *
SECONDARY_XY_ORIGIN 747573.723 3987736.760 *
NATION US *
STATE CA *
NW_QUAD_CORNER_XY 747880.622 3987446.580 *
NE_QUAD_CORNER_XY 753515.666 3987607.488 *
SE_QUAD_CORNER_XY 753715.765 3980672.750 *
SW_QUAD_CORNER_XY 748076.264 3980511.957 *
SECONDARY_NW_QUAD_XY 747886.511 3987246.189 *
SECONDARY_NE_QUAD_XY 753521.689 3987407.101 *
SECONDARY_SE_QUAD_XY 753721.782 3980472.539 *
SECONDARY_SW_QUAD_XY 748082.148 3980311.741 *
RMSE_XY 2.488 *
IMAGE_SOURCE "BLACK AND WHITE FILM" *
SOURCE_IMAGE_ID "NAPP 6915 107" *
SOURCE_IMAGE_DATE 1994 04 21 *
SOURCE_IMAGE_ID "NAPP 6915 109" *
SOURCE_IMAGE_DATE 1994 04 21 *
SOURCE_IMAGE_ID "NAPP 6915 146" *
SOURCE_IMAGE_DATE 1994 04 21 *
SOURCE_DEM_DATE 1994 01 01 *
AGENCY "WESTERN MAPPING CENTER (WMC)" *
PRODUCER "ANALYTICAL SURVEYS INC." *
PRODUCTION_SYSTEM "ORBIT OR_RECTIFY V.5.2" *
STANDARD_VERSION 1996 12 *
METADATA_DATE 1998 11 22 *
DATA_FILE_SIZE 50626140 *
BYTE_COUNT 6540 * * * * * * * * * * * * * * * * * * * * * * * * * * * * * * * * * * *
END_USGS_HEADER *
