BEGIN_USGS_DOQ_HEADER *
QUADRANGLE_NAME "GARZA PEAK" *
QUADRANT SE *
WEST_LONGITUDE -120 11 15.000 *
EAST_LONGITUDE -120 07 30.000 *
NORTH_LATITUDE 35 56 15.000 *
SOUTH_LATITUDE 35 52 30.000 *
PRODUCTION_DATE 2000 08 03 *
RASTER_ORDER LEFT_RIGHT/TOP_BOTTOM *
BAND_ORGANIZATION "SINGLE FILE" *
BAND_CONTENT BLACK&WHITE *
BITS_PER_PIXEL 8 *
SAMPLES_AND_LINES 6570 7740 *
HORIZONTAL_DATUM NAD83 *
HORIZONTAL_COORDINATE_SYSTEM UTM *
COORDINATE_ZONE 10 *
HORIZONTAL_UNITS METERS *
HORIZONTAL_RESOLUTION 1.000 *
SECONDARY_HORIZONTAL_DATUM NAD27 *
XY_ORIGIN 753300.000 3981150.000 *
SECONDARY_XY_ORIGIN 753393.818 3980956.900 *
NATION US *
STATE CA *
NW_QUAD_CORNER_XY 753715.765 3980672.750 *
NE_QUAD_CORNER_XY 759355.361 3980837.166 *
SE_QUAD_CORNER_XY 759559.608 3973902.365 *
SW_QUAD_CORNER_XY 753915.562 3973738.067 *
SECONDARY_NW_QUAD_XY 753721.782 3980472.539 *
SECONDARY_NE_QUAD_XY 759361.512 3980636.958 *
SECONDARY_SE_QUAD_XY 759565.754 3973702.334 *
SECONDARY_SW_QUAD_XY 753921.574 3973538.032 *
RMSE_XY 2.040 *
IMAGE_SOURCE "BLACK AND WHITE FILM" *
SOURCE_IMAGE_ID "NAPP 6915 146" *
SOURCE_IMAGE_DATE 1994 04 21 *
SOURCE_DEM_DATE 1994 01 01 *
AGENCY "WESTERN MAPPING CENTER (WMC)" *
PRODUCER "ANALYTICAL SURVEYS INC." *
PRODUCTION_SYSTEM "ORBIT OR_RECTIFY V.5.2" *
STANDARD_VERSION 1996 12 *
METADATA_DATE 2000 08 09 *
DATA_FILE_SIZE 50858370 *
BYTE_COUNT 6570 * * * * * * * * * * * * * * * * * * * * * * * * * * * * * * * * * * * * * * * *
END_USGS_HEADER *
