BEGIN_USGS_DOQ_HEADER *
QUADRANGLE_NAME "THE DARK HOLE" *
QUADRANT NW *
NORTH_LATITUDE 36 00 00.000 *
WEST_LONGITUDE -120 22 30.000 *
SOUTH_LATITUDE 35 56 15.000 *
EAST_LONGITUDE -120 18 45.000 *
PRODUCTION_DATE 1998 10 27 *
RASTER_ORDER LEFT_RIGHT/TOP_BOTTOM *
BAND_ORGANIZATION "SINGLE FILE" *
BAND_CONTENT BLACK&WHITE *
BITS_PER_PIXEL 8 *
SAMPLES_AND_LINES 6540 7710 *
HORIZONTAL_DATUM NAD83 *
HORIZONTAL_COORDINATE_SYSTEM UTM *
COORDINATE_ZONE 10 *
HORIZONTAL_UNITS METERS *
HORIZONTAL_RESOLUTION 1.000 *
SECONDARY_HORIZONTAL_DATUM NAD27 *
XY_ORIGIN 736200.000 3987600.000 *
SECONDARY_XY_ORIGIN 736294.102 3987406.470 *
NATION US *
STATE CA *
NW_QUAD_CORNER_XY 736610.808 3987135.636 *
NE_QUAD_CORNER_XY 742245.670 3987289.296 *
SE_QUAD_CORNER_XY 742436.856 3980354.785 *
SW_QUAD_CORNER_XY 736797.538 3980201.234 *
SECONDARY_NW_QUAD_XY 736616.428 3986935.237 *
SECONDARY_NE_QUAD_XY 742251.424 3987088.901 *
SECONDARY_SE_QUAD_XY 742442.605 3980154.566 *
SECONDARY_SW_QUAD_XY 736803.153 3980001.011 *
RMSE_XY 1.900 *
IMAGE_SOURCE "BLACK AND WHITE FILM" *
SOURCE_IMAGE_ID "NAPP 6919 176" *
SOURCE_IMAGE_DATE 1994 05 11 *
SOURCE_IMAGE_ID "NAPP 6919 174" *
SOURCE_IMAGE_DATE 1994 05 11 *
SOURCE_IMAGE_ID "NAPP 6915 20" *
SOURCE_IMAGE_DATE 1994 04 21 *
SOURCE_IMAGE_ID "NAPP 6919 184" *
SOURCE_IMAGE_DATE 1994 05 11 *
SOURCE_IMAGE_ID "NAPP 6916 84" *
SOURCE_IMAGE_DATE 1994 05 02 *
SOURCE_DEM_DATE 1989 01 01 *
AGENCY "WESTERN MAPPING CENTER (WMC)" *
PRODUCER "ANALYTICAL SURVEYS INC." *
PRODUCTION_SYSTEM "ORBIT OR_RECTIFY V.5.2" *
STANDARD_VERSION 1996 12 *
METADATA_DATE 1998 10 29 *
DATA_FILE_SIZE 50429940 *
BYTE_COUNT 6540 * * * * * * * * * * * * * * * * * * * * * * * * * * * * * * *
END_USGS_HEADER *
