BEGIN_USGS_DOQ_HEADER *
QUADRANGLE_NAME "THE DARK HOLE" *
QUADRANT SW *
NORTH_LATITUDE 35 56 15.000 *
WEST_LONGITUDE -120 22 30.000 *
SOUTH_LATITUDE 35 52 30.000 *
EAST_LONGITUDE -120 18 45.000 *
PRODUCTION_DATE 1998 10 27 *
RASTER_ORDER LEFT_RIGHT/TOP_BOTTOM *
BAND_ORGANIZATION "SINGLE FILE" *
BAND_CONTENT BLACK&WHITE *
BITS_PER_PIXEL 8 *
SAMPLES_AND_LINES 6570 7710 *
HORIZONTAL_DATUM NAD83 *
HORIZONTAL_COORDINATE_SYSTEM UTM *
COORDINATE_ZONE 10 *
HORIZONTAL_UNITS METERS *
HORIZONTAL_RESOLUTION 1.000 *
SECONDARY_HORIZONTAL_DATUM NAD27 *
XY_ORIGIN 736380.000 3980670.000 *
SECONDARY_XY_ORIGIN 736474.262 3980476.434 *
NATION US *
STATE CA *
NW_QUAD_CORNER_XY 736797.538 3980201.234 *
NE_QUAD_CORNER_XY 742436.856 3980354.785 *
SE_QUAD_CORNER_XY 742627.753 3973420.330 *
SW_QUAD_CORNER_XY 736983.986 3973266.889 *
SECONDARY_NW_QUAD_XY 736803.153 3980001.011 *
SECONDARY_NE_QUAD_XY 742442.605 3980154.566 *
SECONDARY_SE_QUAD_XY 742633.497 3973220.287 *
SECONDARY_SW_QUAD_XY 736989.597 3973066.843 *
RMSE_XY 2.679 *
IMAGE_SOURCE "BLACK AND WHITE FILM" *
SOURCE_IMAGE_ID "NAPP 6919 174" *
SOURCE_IMAGE_DATE 1994 05 11 *
SOURCE_DEM_DATE 1989 01 01 *
AGENCY "WESTERN MAPPING CENTER (WMC)" *
PRODUCER "ANALYTICAL SURVEYS INC." *
PRODUCTION_SYSTEM "ORBIT OR_RECTIFY V.5.2" *
STANDARD_VERSION 1996 12 *
METADATA_DATE 1998 10 29 *
DATA_FILE_SIZE 50661270 *
BYTE_COUNT 6570 * * * * * * * * * * * * * * * * * * * * * * * * * * * * * * * * * * * * * * * *
END_USGS_HEADER *
