BEGIN_USGS_DOQ_HEADER *
QUADRANGLE_NAME "PARKFIELD" *
QUADRANT NW *
NORTH_LATITUDE 36 00 00.000 *
WEST_LONGITUDE -120 30 00.000 *
SOUTH_LATITUDE 35 56 15.000 *
EAST_LONGITUDE -120 26 15.000 *
PRODUCTION_DATE 1998 10 27 *
RASTER_ORDER LEFT_RIGHT/TOP_BOTTOM *
BAND_ORGANIZATION "SINGLE FILE" *
BAND_CONTENT BLACK&WHITE *
BITS_PER_PIXEL 8 *
SAMPLES_AND_LINES 6510 7710 *
HORIZONTAL_DATUM NAD83 *
HORIZONTAL_COORDINATE_SYSTEM UTM *
COORDINATE_ZONE 10 *
HORIZONTAL_UNITS METERS *
HORIZONTAL_RESOLUTION 1.000 *
SECONDARY_HORIZONTAL_DATUM NAD27 *
XY_ORIGIN 724950.000 3987300.000 *
SECONDARY_XY_ORIGIN 725044.474 3987106.180 *
NATION US *
STATE CA *
NW_QUAD_CORNER_XY 725341.343 3986839.183 *
NE_QUAD_CORNER_XY 730976.033 3986985.598 *
SE_QUAD_CORNER_XY 731158.308 3980051.303 *
SW_QUAD_CORNER_XY 725519.164 3979904.992 *
SECONDARY_NW_QUAD_XY 725346.696 3986638.777 *
SECONDARY_NE_QUAD_XY 730981.519 3986785.196 *
SECONDARY_SE_QUAD_XY 731163.790 3979851.077 *
SECONDARY_SW_QUAD_XY 725524.512 3979704.762 *
RMSE_XY 2.297 *
IMAGE_SOURCE "BLACK AND WHITE FILM" *
SOURCE_IMAGE_ID "NAPP 6916 25" *
SOURCE_IMAGE_DATE 1994 05 02 *
SOURCE_IMAGE_ID "NAPP 6916 84" *
SOURCE_IMAGE_DATE 1994 05 02 *
SOURCE_DEM_DATE 1989 01 01 *
AGENCY "WESTERN MAPPING CENTER (WMC)" *
PRODUCER "ANALYTICAL SURVEYS INC." *
PRODUCTION_SYSTEM "ORBIT OR_RECTIFY V.5.2" *
STANDARD_VERSION 1996 12 *
METADATA_DATE 1998 10 29 *
DATA_FILE_SIZE 50198610 *
BYTE_COUNT 6510 * * * * * * * * * * * * * * * * * * * * * * * * * * * * * * * * * * * * *
END_USGS_HEADER *
