BEGIN_USGS_DOQ_HEADER *
QUADRANGLE_NAME "PARKFIELD" *
QUADRANT SE *
NORTH_LATITUDE 35 56 15.000 *
WEST_LONGITUDE -120 26 15.000 *
SOUTH_LATITUDE 35 52 30.000 *
EAST_LONGITUDE -120 22 30.000 *
PRODUCTION_DATE 1998 10 27 *
RASTER_ORDER LEFT_RIGHT/TOP_BOTTOM *
BAND_ORGANIZATION "SINGLE FILE" *
BAND_CONTENT BLACK&WHITE *
BITS_PER_PIXEL 8 *
SAMPLES_AND_LINES 6570 7710 *
HORIZONTAL_DATUM NAD83 *
HORIZONTAL_COORDINATE_SYSTEM UTM *
COORDINATE_ZONE 10 *
HORIZONTAL_UNITS METERS *
HORIZONTAL_RESOLUTION 1.000 *
SECONDARY_HORIZONTAL_DATUM NAD27 *
XY_ORIGIN 730740.000 3980520.000 *
SECONDARY_XY_ORIGIN 730834.448 3980326.289 *
NATION US *
STATE CA *
NW_QUAD_CORNER_XY 731158.308 3980051.303 *
NE_QUAD_CORNER_XY 736797.538 3980201.234 *
SE_QUAD_CORNER_XY 736983.986 3973266.889 *
SW_QUAD_CORNER_XY 731340.308 3973117.066 *
SECONDARY_NW_QUAD_XY 731163.790 3979851.077 *
SECONDARY_NE_QUAD_XY 736803.153 3980001.011 *
SECONDARY_SE_QUAD_XY 736989.597 3973066.843 *
SECONDARY_SW_QUAD_XY 731345.785 3972917.016 *
RMSE_XY 2.030 *
IMAGE_SOURCE "BLACK AND WHITE FILM" *
SOURCE_IMAGE_ID "NAPP 6916 82" *
SOURCE_IMAGE_DATE 1994 05 02 *
SOURCE_DEM_DATE 1989 01 01 *
AGENCY "WESTERN MAPPING CENTER (WMC)" *
PRODUCER "ANALYTICAL SURVEYS INC." *
PRODUCTION_SYSTEM "ORBIT OR_RECTIFY V.5.2" *
STANDARD_VERSION 1996 12 *
METADATA_DATE 1998 10 29 *
DATA_FILE_SIZE 50661270 *
BYTE_COUNT 6570 * * * * * * * * * * * * * * * * * * * * * * * * * * * * * * * * * * * * * * * *
END_USGS_HEADER *
