BEGIN_USGS_DOQ_HEADER *
QUADRANGLE_NAME "STOCKDALE MOUNTAIN" *
QUADRANT SW *
NORTH_LATITUDE 35 56 15.000 *
WEST_LONGITUDE -120 37 30.000 *
SOUTH_LATITUDE 35 52 30.000 *
EAST_LONGITUDE -120 33 45.000 *
PRODUCTION_DATE 1998 10 27 *
RASTER_ORDER LEFT_RIGHT/TOP_BOTTOM *
BAND_ORGANIZATION "SINGLE FILE" *
BAND_CONTENT BLACK&WHITE *
BITS_PER_PIXEL 8 *
SAMPLES_AND_LINES 6510 7710 *
HORIZONTAL_DATUM NAD83 *
HORIZONTAL_COORDINATE_SYSTEM UTM *
COORDINATE_ZONE 10 *
HORIZONTAL_UNITS METERS *
HORIZONTAL_RESOLUTION 1.000 *
SECONDARY_HORIZONTAL_DATUM NAD27 *
XY_ORIGIN 713850.000 3980070.000 *
SECONDARY_XY_ORIGIN 713945.069 3979875.981 *
NATION US *
STATE CA *
NW_QUAD_CORNER_XY 714241.127 3979623.228 *
NE_QUAD_CORNER_XY 719880.105 3979762.301 *
SE_QUAD_CORNER_XY 720053.211 3972828.271 *
SW_QUAD_CORNER_XY 714409.787 3972689.298 *
SECONDARY_NW_QUAD_XY 714246.208 3979422.991 *
SECONDARY_NE_QUAD_XY 719885.319 3979562.067 *
SECONDARY_SE_QUAD_XY 720058.420 3972628.214 *
SECONDARY_SW_QUAD_XY 714414.863 3972489.238 *
RMSE_XY 1.646 *
IMAGE_SOURCE "BLACK AND WHITE FILM" *
SOURCE_IMAGE_ID "NAPP 6926 37" *
SOURCE_IMAGE_DATE 1994 09 04 *
SOURCE_IMAGE_ID "NAPP 6926 35" *
SOURCE_IMAGE_DATE 1994 09 04 *
SOURCE_IMAGE_ID "NAPP 6926 30" *
SOURCE_IMAGE_DATE 1994 09 04 *
SOURCE_DEM_DATE 1998 01 01 *
AGENCY "WESTERN MAPPING CENTER (WMC)" *
PRODUCER "ANALYTICAL SURVEYS INC." *
PRODUCTION_SYSTEM "ORBIT OR_RECTIFY V.5.2" *
STANDARD_VERSION 1996 12 *
METADATA_DATE 1998 10 29 *
DATA_FILE_SIZE 50198610 *
BYTE_COUNT 6510 * * * * * * * * * * * * * * * * * * * * * * * * * * * * * * * * * * *
END_USGS_HEADER *
