BEGIN_USGS_DOQ_HEADER *
QUADRANGLE_NAME "VALLETON" *
QUADRANT NE *
NORTH_LATITUDE 36 00 00.000 *
WEST_LONGITUDE -120 41 15.000 *
SOUTH_LATITUDE 35 56 15.000 *
EAST_LONGITUDE -120 37 30.000 *
PRODUCTION_DATE 1998 10 26 *
RASTER_ORDER LEFT_RIGHT/TOP_BOTTOM *
BAND_ORGANIZATION "SINGLE FILE" *
BAND_CONTENT BLACK&WHITE *
BITS_PER_PIXEL 8 *
SAMPLES_AND_LINES 6540 7710 *
HORIZONTAL_DATUM NAD83 *
HORIZONTAL_COORDINATE_SYSTEM UTM *
COORDINATE_ZONE 10 *
HORIZONTAL_UNITS METERS *
HORIZONTAL_RESOLUTION 1.000 *
SECONDARY_HORIZONTAL_DATUM NAD27 *
XY_ORIGIN 708030.000 3986880.000 *
SECONDARY_XY_ORIGIN 708125.158 3986685.864 *
NATION US *
STATE CA *
NW_QUAD_CORNER_XY 708437.767 3986421.666 *
NE_QUAD_CORNER_XY 714072.213 3986557.218 *
SE_QUAD_CORNER_XY 714241.127 3979623.228 *
SW_QUAD_CORNER_XY 708602.230 3979487.774 *
SECONDARY_NW_QUAD_XY 708442.718 3986221.251 *
SECONDARY_NE_QUAD_XY 714077.297 3986356.805 *
SECONDARY_SE_QUAD_XY 714246.208 3979422.991 *
SECONDARY_SW_QUAD_XY 708607.176 3979287.534 *
RMSE_XY 2.027 *
IMAGE_SOURCE "BLACK AND WHITE FILM" *
SOURCE_IMAGE_ID "NAPP 6928 5" *
SOURCE_IMAGE_DATE 1994 09 15 *
SOURCE_IMAGE_ID "NAPP 6928 7" *
SOURCE_IMAGE_DATE 1994 09 15 *
SOURCE_DEM_DATE 1998 01 01 *
AGENCY "WESTERN MAPPING CENTER (WMC)" *
PRODUCER "ANALYTICAL SURVEYS INC." *
PRODUCTION_SYSTEM "ORBIT OR_RECTIFY V.5.2" *
STANDARD_VERSION 1996 12 *
METADATA_DATE 1998 10 30 *
DATA_FILE_SIZE 50429940 *
BYTE_COUNT 6540 * * * * * * * * * * * * * * * * * * * * * * * * * * * * * * * * * * * * *
END_USGS_HEADER *
