BEGIN_USGS_DOQ_HEADER *
QUADRANGLE_NAME "WUNPOST" *
QUADRANT SE *
NORTH_LATITUDE 35 56 15.000 *
WEST_LONGITUDE -120 48 45.000 *
SOUTH_LATITUDE 35 52 30.000 *
EAST_LONGITUDE -120 45 00.000 *
PRODUCTION_DATE 1998 10 26 *
RASTER_ORDER LEFT_RIGHT/TOP_BOTTOM *
BAND_ORGANIZATION "SINGLE FILE" *
BAND_CONTENT BLACK&WHITE *
BITS_PER_PIXEL 8 *
SAMPLES_AND_LINES 6510 7710 *
HORIZONTAL_DATUM NAD83 *
HORIZONTAL_COORDINATE_SYSTEM UTM *
COORDINATE_ZONE 10 *
HORIZONTAL_UNITS METERS *
HORIZONTAL_RESOLUTION 1.000 *
SECONDARY_HORIZONTAL_DATUM NAD27 *
XY_ORIGIN 696930.000 3979680.000 *
SECONDARY_XY_ORIGIN 697025.729 3979485.676 *
NATION US *
STATE CA *
NW_QUAD_CORNER_XY 697324.666 3979227.718 *
NE_QUAD_CORNER_XY 702963.410 3979355.937 *
SE_QUAD_CORNER_XY 703123.179 3972422.199 *
SW_QUAD_CORNER_XY 697479.990 3972294.072 *
SECONDARY_NW_QUAD_XY 697329.345 3979027.472 *
SECONDARY_NE_QUAD_XY 702968.223 3979155.694 *
SECONDARY_SE_QUAD_XY 703127.987 3972222.133 *
SECONDARY_SW_QUAD_XY 697484.665 3972094.003 *
RMSE_XY 2.988 *
IMAGE_SOURCE "BLACK AND WHITE FILM" *
SOURCE_IMAGE_ID "NAPP 6920 251" *
SOURCE_IMAGE_DATE 1994 05 13 *
SOURCE_IMAGE_ID "NAPP 6923 209" *
SOURCE_IMAGE_DATE 1994 05 28 *
SOURCE_IMAGE_ID "NAPP 6920 253" *
SOURCE_IMAGE_DATE 1994 05 13 *
SOURCE_IMAGE_ID "NAPP 6928 12" *
SOURCE_IMAGE_DATE 1994 09 15 *
SOURCE_DEM_DATE 1998 01 01 *
AGENCY "WESTERN MAPPING CENTER (WMC)" *
PRODUCER "ANALYTICAL SURVEYS INC." *
PRODUCTION_SYSTEM "ORBIT OR_RECTIFY V.5.2" *
STANDARD_VERSION 1996 12 *
METADATA_DATE 1998 10 30 *
DATA_FILE_SIZE 50198610 *
BYTE_COUNT 6510 * * * * * * * * * * * * * * * * * * * * * * * * * * * * * * * * *
END_USGS_HEADER *
