BEGIN_USGS_DOQ_HEADER *
QUADRANGLE_NAME "WUNPOST" *
QUADRANT SW *
NORTH_LATITUDE 35 56 15.000 *
WEST_LONGITUDE -120 52 30.000 *
SOUTH_LATITUDE 35 52 30.000 *
EAST_LONGITUDE -120 48 45.000 *
PRODUCTION_DATE 1998 10 26 *
RASTER_ORDER LEFT_RIGHT/TOP_BOTTOM *
BAND_ORGANIZATION "SINGLE FILE" *
BAND_CONTENT BLACK&WHITE *
BITS_PER_PIXEL 8 *
SAMPLES_AND_LINES 6510 7680 *
HORIZONTAL_DATUM NAD83 *
HORIZONTAL_COORDINATE_SYSTEM UTM *
COORDINATE_ZONE 10 *
HORIZONTAL_UNITS METERS *
HORIZONTAL_RESOLUTION 1.000 *
SECONDARY_HORIZONTAL_DATUM NAD27 *
XY_ORIGIN 691290.000 3979530.000 *
SECONDARY_XY_ORIGIN 691385.954 3979335.548 *
NATION US *
STATE CA *
NW_QUAD_CORNER_XY 691685.996 3979103.115 *
NE_QUAD_CORNER_XY 697324.666 3979227.718 *
SE_QUAD_CORNER_XY 697479.990 3972294.072 *
SW_QUAD_CORNER_XY 691836.876 3972169.559 *
SECONDARY_NW_QUAD_XY 691690.541 3978902.866 *
SECONDARY_NE_QUAD_XY 697329.345 3979027.472 *
SECONDARY_SE_QUAD_XY 697484.665 3972094.003 *
SECONDARY_SW_QUAD_XY 691841.417 3971969.487 *
RMSE_XY 2.875 *
IMAGE_SOURCE "BLACK AND WHITE FILM" *
SOURCE_IMAGE_ID "NAPP 6923 209" *
SOURCE_IMAGE_DATE 1994 05 28 *
SOURCE_DEM_DATE 1998 01 01 *
AGENCY "WESTERN MAPPING CENTER (WMC)" *
PRODUCER "ANALYTICAL SURVEYS INC." *
PRODUCTION_SYSTEM "ORBIT OR_RECTIFY V.5.2" *
STANDARD_VERSION 1996 12 *
METADATA_DATE 1998 10 30 *
DATA_FILE_SIZE 50003310 *
BYTE_COUNT 6510 * * * * * * * * * * * * * * * * * * * * * * * * * * * * * * * * * * * * * * *
END_USGS_HEADER *
